FILENAME: O4411131.NWS.831823.tif
QUADRANGLE_NAME: REAS PASS
QUADRANT: NW
WEST_LONGITUDE: -111 15 0.00000
EAST_LONGITUDE: -111 11 15.00000
NORTH_LATITUDE: 44 37 30.00000
SOUTH_LATITUDE: 44 33 45.00000
PRODUCTION_DATE: 1997 11 24
RASTER_ORDER: LEFT_RIGHT/TOP_BOTTOM
BAND_ORGANIZATION: SINGLE FILE
BAND_CONTENT: BLACK&WHITE
BAND_CONTENT: UNDEFINED
BAND_CONTENT: UNDEFINED
BITS_PER_PIXEL: 8
SAMPLES_AND_LINES: 5645 7567
HORIZONTAL_DATUM: NAD83
HORIZONTAL_COORDINATE_SYSTEM: UTM
COORDINATE_ZONE: 12
HORIZONTAL_UNITS: METERS
HORIZONTAL_RESOLUTION: 1.00000
SECONDARY_HORIZONTAL_DATUM: NAD27
XY_ORIGIN: 479783.00000 4941625.00000
SECONDARY_XY_ORIGIN: 479844.50800 4941416.42700
NATION: US
NATION: "SCIENCE
STATE: MT
STATE: ID
NW_QUAD_CORNER_XY: 480168.07300 4941324.42000
NE_QUAD_CORNER_XY: 485126.05500 4941311.12300
SE_QUAD_CORNERY_XY: 485110.10400 4934368.66000
SW_QUAD_CORNER_XY: 480146.80500 4934381.95700
SECONDARY_NW_QUAD_XY: 480167.49200 4941107.57900
SECONDARY_NE_QUAD_XY: 485125.61900 4941094.28100
SECONDARY_SE_QUAD_XY: 485109.66900 4934151.88000
SECONDARY_SW_QUAD_XY: 480146.22500 4934165.17700
RMSE_XY: 4.30000
IMAGE_SOURCE: BLACK AND WHITE FILM
SOURCE_IMAGE_ID: NAPP 8375 130
SOURCE_IMAGE_DATE: 1995 08 12
SOURCE_IMAGE_ID: NAPP 8375 129
SOURCE_IMAGE_DATE: 1995 08 12
SOURCE_DEM_DATE: 1997 01 01
AGENCY: WESTERN MAPPING CENTER (WMC)
PRODUCER: UNDEFINED
PRODUCTION_SYSTEM: GIS/MAGIC
COMPRESSION: UNDEFINED
STANDARD_VERSION: 1996 12
METADATA_DATE: 1997 12 17
DATA_FILE_SIZE: 42721360
BYTE_COUNT: 5645
