FILENAME: O4411126.NES.1077820.tif
QUADRANGLE_NAME: SLIDE MOUNTAIN
QUADRANT: NE
WEST_LONGITUDE: -111 48 45.00000
EAST_LONGITUDE: -111 45 0.00000
NORTH_LATITUDE: 44 37 30.00000
SOUTH_LATITUDE: 44 33 45.00000
PRODUCTION_DATE: 2000 3 20
RASTER_ORDER: LEFT_RIGHT/TOP_BOTTOM
BAND_ORGANIZATION: SINGLE FILE
BAND_CONTENT: BLACK&WHITE
BAND_CONTENT: UNDEFINED
BAND_CONTENT: UNDEFINED
BITS_PER_PIXEL: 8
SAMPLES_AND_LINES: 5694 7602
HORIZONTAL_DATUM: NAD83
HORIZONTAL_COORDINATE_SYSTEM: UTM
COORDINATE_ZONE: 12
HORIZONTAL_UNITS: METERS
HORIZONTAL_RESOLUTION: 1.00000
SECONDARY_HORIZONTAL_DATUM: NAD27
XY_ORIGIN: 435112.00000 4941916.00000
SECONDARY_XY_ORIGIN: 435173.94900 4941707.80400
NATION: US
NATION: "SCIENCE
STATE: MT
NW_QUAD_CORNER_XY: 435546.20700 4941615.06600
NE_QUAD_CORNER_XY: 440504.19500 4941567.57300
SE_QUAD_CORNERY_XY: 440440.38900 4934625.10200
SW_QUAD_CORNER_XY: 435477.08300 4934672.59300
SECONDARY_NW_QUAD_XY: 435544.32100 4941398.23300
SECONDARY_NE_QUAD_XY: 440502.45400 4941350.73900
SECONDARY_SE_QUAD_XY: 440438.64900 4934408.32900
SECONDARY_SW_QUAD_XY: 435475.19700 4934455.82100
RMSE_XY: 2.60000
IMAGE_SOURCE: BLACK AND WHITE FILM
SOURCE_IMAGE_ID: NAPP 8374 168
SOURCE_IMAGE_DATE: 1995 08 12
SOURCE_IMAGE_ID: NAPP 8376 213
SOURCE_IMAGE_DATE: 1995 08 15
SOURCE_IMAGE_ID: NAPP 8374 167
SOURCE_IMAGE_DATE: 1995 08 12
SOURCE_IMAGE_ID: NAPP 8374 170
SOURCE_IMAGE_DATE: 1995 08 12
SOURCE_IMAGE_ID: NAPP 8374 132
SOURCE_IMAGE_DATE: 1995 08 12
SOURCE_DEM_DATE: 2000 01 01
AGENCY: WESTERN MAPPING CENTER (WMC)
PRODUCER: UNDEFINED
PRODUCTION_SYSTEM: GIS/MAGIC
COMPRESSION: UNDEFINED
STANDARD_VERSION: 1996 12
METADATA_DATE: 2000 05 26
DATA_FILE_SIZE: 43291482
BYTE_COUNT: 5694
