FILENAME: O4411126.SES.1077822.tif
QUADRANGLE_NAME: SLIDE MOUNTAIN
QUADRANT: SE
WEST_LONGITUDE: -111 48 45.00000
EAST_LONGITUDE: -111 45 0.00000
NORTH_LATITUDE: 44 33 45.00000
SOUTH_LATITUDE: 44 30 0.00000
PRODUCTION_DATE: 2000 3 20
RASTER_ORDER: LEFT_RIGHT/TOP_BOTTOM
BAND_ORGANIZATION: SINGLE FILE
BAND_CONTENT: BLACK&WHITE
BAND_CONTENT: UNDEFINED
BAND_CONTENT: UNDEFINED
BITS_PER_PIXEL: 8
SAMPLES_AND_LINES: 5699 7602
HORIZONTAL_DATUM: NAD83
HORIZONTAL_COORDINATE_SYSTEM: UTM
COORDINATE_ZONE: 12
HORIZONTAL_UNITS: METERS
HORIZONTAL_RESOLUTION: 1.00000
SECONDARY_HORIZONTAL_DATUM: NAD27
XY_ORIGIN: 435043.00000 4934973.00000
SECONDARY_XY_ORIGIN: 435104.90500 4934764.92700
NATION: US
NATION: "SCIENCE
STATE: MT
STATE: ID
NW_QUAD_CORNER_XY: 435477.08300 4934672.59300
NE_QUAD_CORNER_XY: 440440.38900 4934625.10200
SE_QUAD_CORNERY_XY: 440376.65500 4927682.70600
SW_QUAD_CORNER_XY: 435408.03700 4927730.19500
SECONDARY_NW_QUAD_XY: 435475.19700 4934455.82100
SECONDARY_NE_QUAD_XY: 440438.64900 4934408.32900
SECONDARY_SE_QUAD_XY: 440374.91500 4927465.99400
SECONDARY_SW_QUAD_XY: 435406.15100 4927513.48500
RMSE_XY: 1.50000
IMAGE_SOURCE: BLACK AND WHITE FILM
SOURCE_IMAGE_ID: NAPP 8374 166
SOURCE_IMAGE_DATE: 1995 08 12
SOURCE_IMAGE_ID: NAPP 8374 165
SOURCE_IMAGE_DATE: 1995 08 12
SOURCE_IMAGE_ID: NAPP 8374 167
SOURCE_IMAGE_DATE: 1995 08 12
SOURCE_DEM_DATE: 2000 01 01
AGENCY: WESTERN MAPPING CENTER (WMC)
PRODUCER: UNDEFINED
PRODUCTION_SYSTEM: GIS/MAGIC
COMPRESSION: UNDEFINED
STANDARD_VERSION: 1996 12
METADATA_DATE: 2000 05 26
DATA_FILE_SIZE: 43329497
BYTE_COUNT: 5699
