FILENAME: O4411123.SES.831820.tif
QUADRANGLE_NAME: MADISON ARM
QUADRANT: SE
WEST_LONGITUDE: -111 11 15.00000
EAST_LONGITUDE: -111 7 30.00000
NORTH_LATITUDE: 44 41 15.00000
SOUTH_LATITUDE: 44 37 30.00000
PRODUCTION_DATE: 1997 11 24
RASTER_ORDER: LEFT_RIGHT/TOP_BOTTOM
BAND_ORGANIZATION: SINGLE FILE
BAND_CONTENT: BLACK&WHITE
BAND_CONTENT: UNDEFINED
BAND_CONTENT: UNDEFINED
BITS_PER_PIXEL: 8
SAMPLES_AND_LINES: 5633 7563
HORIZONTAL_DATUM: NAD83
HORIZONTAL_COORDINATE_SYSTEM: UTM
COORDINATE_ZONE: 12
HORIZONTAL_UNITS: METERS
HORIZONTAL_RESOLUTION: 1.00000
SECONDARY_HORIZONTAL_DATUM: NAD27
XY_ORIGIN: 484763.00000 4948554.00000
SECONDARY_XY_ORIGIN: 484824.39300 4948345.19600
NATION: US
NATION: "SCIENCE
STATE: MT
NW_QUAD_CORNER_XY: 485142.02300 4948253.66100
NE_QUAD_CORNER_XY: 490094.68200 4948244.16300
SE_QUAD_CORNERY_XY: 490084.03700 4941301.62500
SW_QUAD_CORNER_XY: 485126.05500 4941311.12300
SECONDARY_NW_QUAD_XY: 485141.58800 4948036.76000
SECONDARY_NE_QUAD_XY: 490094.39200 4948027.26100
SECONDARY_SE_QUAD_XY: 490083.74600 4941084.78300
SECONDARY_SW_QUAD_XY: 485125.61900 4941094.28100
RMSE_XY: 1.30000
IMAGE_SOURCE: BLACK AND WHITE FILM
SOURCE_IMAGE_ID: NAPP 8375 139
SOURCE_IMAGE_DATE: 1995 08 12
SOURCE_DEM_DATE: 1977 00 00
AGENCY: WESTERN MAPPING CENTER (WMC)
PRODUCER: UNDEFINED
PRODUCTION_SYSTEM: GIS/MAGIC
COMPRESSION: UNDEFINED
STANDARD_VERSION: 1996 12
METADATA_DATE: 1997 12 17
DATA_FILE_SIZE: 42608012
BYTE_COUNT: 5633
