FILENAME: O4411122.NES.831711.tif
QUADRANGLE_NAME: TARGHEE PASS
QUADRANT: NE
WEST_LONGITUDE: -111 18 45.00000
EAST_LONGITUDE: -111 15 0.00000
NORTH_LATITUDE: 44 45 0.00000
SOUTH_LATITUDE: 44 41 15.00000
PRODUCTION_DATE: 1997 11 24
RASTER_ORDER: LEFT_RIGHT/TOP_BOTTOM
BAND_ORGANIZATION: SINGLE FILE
BAND_CONTENT: BLACK&WHITE
BAND_CONTENT: UNDEFINED
BAND_CONTENT: UNDEFINED
BITS_PER_PIXEL: 8
SAMPLES_AND_LINES: 5639 7571
HORIZONTAL_DATUM: NAD83
HORIZONTAL_COORDINATE_SYSTEM: UTM
COORDINATE_ZONE: 12
HORIZONTAL_UNITS: METERS
HORIZONTAL_RESOLUTION: 1.00000
SECONDARY_HORIZONTAL_DATUM: NAD27
XY_ORIGIN: 474873.00000 4955527.00000
SECONDARY_XY_ORIGIN: 474934.52400 4955318.15000
NATION: US
NATION: "SCIENCE
STATE: MT
STATE: ID
NW_QUAD_CORNER_XY: 475263.34800 4955226.67100
NE_QUAD_CORNER_XY: 480210.67900 4955209.57400
SE_QUAD_CORNERY_XY: 480189.36400 4948266.95900
SW_QUAD_CORNER_XY: 475236.70400 4948284.05600
SECONDARY_NW_QUAD_XY: 475262.62200 4955009.71100
SECONDARY_NE_QUAD_XY: 480210.09800 4954992.61300
SECONDARY_SE_QUAD_XY: 480188.78300 4948050.05700
SECONDARY_SW_QUAD_XY: 475235.97900 4948067.15500
RMSE_XY: 2.00000
IMAGE_SOURCE: BLACK AND WHITE FILM
SOURCE_IMAGE_ID: NAPP 8375 223
SOURCE_IMAGE_DATE: 1995 08 12
SOURCE_IMAGE_ID: NAPP 8374 005
SOURCE_IMAGE_DATE: 1995 08 12
SOURCE_DEM_DATE: 1964 00 00
AGENCY: WESTERN MAPPING CENTER (WMC)
PRODUCER: UNDEFINED
PRODUCTION_SYSTEM: GIS/MAGIC
COMPRESSION: UNDEFINED
STANDARD_VERSION: 1996 12
METADATA_DATE: 1997 12 17
DATA_FILE_SIZE: 42698508
BYTE_COUNT: 5639
