FILENAME: O4411118.SES.1077818.tif
QUADRANGLE_NAME: LOWER RED ROCK LAKE
QUADRANT: SE
WEST_LONGITUDE: -111 48 45.00000
EAST_LONGITUDE: -111 45 0.00000
NORTH_LATITUDE: 44 41 15.00000
SOUTH_LATITUDE: 44 37 30.00000
PRODUCTION_DATE: 2000 3 20
RASTER_ORDER: LEFT_RIGHT/TOP_BOTTOM
BAND_ORGANIZATION: SINGLE FILE
BAND_CONTENT: BLACK&WHITE
BAND_CONTENT: UNDEFINED
BAND_CONTENT: UNDEFINED
BITS_PER_PIXEL: 8
SAMPLES_AND_LINES: 5689 7602
HORIZONTAL_DATUM: NAD83
HORIZONTAL_COORDINATE_SYSTEM: UTM
COORDINATE_ZONE: 12
HORIZONTAL_UNITS: METERS
HORIZONTAL_RESOLUTION: 1.00000
SECONDARY_HORIZONTAL_DATUM: NAD27
XY_ORIGIN: 435181.00000 4948858.00000
SECONDARY_XY_ORIGIN: 435242.99300 4948649.68200
NATION: US
NATION: "SCIENCE
STATE: MT
NW_QUAD_CORNER_XY: 435615.40800 4948557.61300
NE_QUAD_CORNER_XY: 440568.07300 4948510.12000
SE_QUAD_CORNERY_XY: 440504.19500 4941567.57300
SW_QUAD_CORNER_XY: 435546.20700 4941615.06600
SECONDARY_NW_QUAD_XY: 435613.52100 4948340.72000
SECONDARY_NE_QUAD_XY: 440566.33100 4948293.22500
SECONDARY_SE_QUAD_XY: 440502.45400 4941350.73900
SECONDARY_SW_QUAD_XY: 435544.32100 4941398.23300
RMSE_XY: 0.80000
IMAGE_SOURCE: BLACK AND WHITE FILM
SOURCE_IMAGE_ID: NAPP 8374 170
SOURCE_IMAGE_DATE: 1995 08 12
SOURCE_IMAGE_ID: NAPP 8376 216
SOURCE_IMAGE_DATE: 1995 08 15
SOURCE_IMAGE_ID: NAPP 8374 169
SOURCE_IMAGE_DATE: 1995 08 12
SOURCE_IMAGE_ID: NAPP 8374 134
SOURCE_IMAGE_DATE: 1995 08 12
SOURCE_IMAGE_ID: NAPP 8374 136
SOURCE_IMAGE_DATE: 1995 08 12
SOURCE_DEM_DATE: 2000 01 01
AGENCY: WESTERN MAPPING CENTER (WMC)
PRODUCER: UNDEFINED
PRODUCTION_SYSTEM: GIS/MAGIC
COMPRESSION: UNDEFINED
STANDARD_VERSION: 1996 12
METADATA_DATE: 2000 05 26
DATA_FILE_SIZE: 43253467
BYTE_COUNT: 5689
