FILENAME: O4411118.SWS.1077819.tif
QUADRANGLE_NAME: LOWER RED ROCK LAKE
QUADRANT: SW
WEST_LONGITUDE: -111 52 30.00000
EAST_LONGITUDE: -111 48 45.00000
NORTH_LATITUDE: 44 41 15.00000
SOUTH_LATITUDE: 44 37 30.00000
PRODUCTION_DATE: 2000 3 17
RASTER_ORDER: LEFT_RIGHT/TOP_BOTTOM
BAND_ORGANIZATION: SINGLE FILE
BAND_CONTENT: BLACK&WHITE
BAND_CONTENT: UNDEFINED
BAND_CONTENT: UNDEFINED
BITS_PER_PIXEL: 8
SAMPLES_AND_LINES: 5694 7605
HORIZONTAL_DATUM: NAD83
HORIZONTAL_COORDINATE_SYSTEM: UTM
COORDINATE_ZONE: 12
HORIZONTAL_UNITS: METERS
HORIZONTAL_RESOLUTION: 1.00000
SECONDARY_HORIZONTAL_DATUM: NAD27
XY_ORIGIN: 430223.00000 4948909.00000
SECONDARY_XY_ORIGIN: 430285.14000 4948700.76600
NATION: US
NATION: "SCIENCE
STATE: MT
NW_QUAD_CORNER_XY: 430662.74200 4948608.90700
NE_QUAD_CORNER_XY: 435615.40800 4948557.61300
SE_QUAD_CORNERY_XY: 435546.20700 4941615.06600
SW_QUAD_CORNER_XY: 430588.21700 4941666.35800
SECONDARY_NW_QUAD_XY: 430660.71000 4948392.01600
SECONDARY_NE_QUAD_XY: 435613.52100 4948340.72000
SECONDARY_SE_QUAD_XY: 435544.32100 4941398.23300
SECONDARY_SW_QUAD_XY: 430586.18600 4941449.52700
RMSE_XY: 1.00000
IMAGE_SOURCE: BLACK AND WHITE FILM
SOURCE_IMAGE_ID: NAPP 8376 216
SOURCE_IMAGE_DATE: 1995 08 15
SOURCE_IMAGE_ID: NAPP 8374 170
SOURCE_IMAGE_DATE: 1995 08 12
SOURCE_DEM_DATE: 2000 01 01
AGENCY: WESTERN MAPPING CENTER (WMC)
PRODUCER: UNDEFINED
PRODUCTION_SYSTEM: GIS/MAGIC
COMPRESSION: UNDEFINED
STANDARD_VERSION: 1996 12
METADATA_DATE: 2000 05 26
DATA_FILE_SIZE: 43308564
BYTE_COUNT: 5694
