FILENAME: O4411115.NWS.830097.tif
QUADRANGLE_NAME: MOUNT HEBGEN
QUADRANT: NW
WEST_LONGITUDE: -111 15 0.00000
EAST_LONGITUDE: -111 11 15.00000
NORTH_LATITUDE: 44 52 30.00000
SOUTH_LATITUDE: 44 48 45.00000
PRODUCTION_DATE: 1997 11 4
RASTER_ORDER: LEFT_RIGHT/TOP_BOTTOM
BAND_ORGANIZATION: SINGLE FILE
BAND_CONTENT: BLACK&WHITE
BAND_CONTENT: UNDEFINED
BAND_CONTENT: UNDEFINED
BITS_PER_PIXEL: 8
SAMPLES_AND_LINES: 5623 7567
HORIZONTAL_DATUM: NAD83
HORIZONTAL_COORDINATE_SYSTEM: UTM
COORDINATE_ZONE: 12
HORIZONTAL_UNITS: METERS
HORIZONTAL_RESOLUTION: 1.00000
SECONDARY_HORIZONTAL_DATUM: NAD27
XY_ORIGIN: 479869.00000 4969396.00000
SECONDARY_XY_ORIGIN: 479930.40200 4969186.87500
NATION: US
NATION: "SCIENCE
STATE: MT
NW_QUAD_CORNER_XY: 480253.38000 4969095.03300
NE_QUAD_CORNER_XY: 485190.03500 4969081.73500
SE_QUAD_CORNERY_XY: 485174.01300 4962138.96700
SW_QUAD_CORNER_XY: 480232.01800 4962152.26500
SECONDARY_NW_QUAD_XY: 480252.79900 4968877.95600
SECONDARY_NE_QUAD_XY: 485189.59900 4968864.65700
SECONDARY_SE_QUAD_XY: 485173.57800 4961921.94800
SECONDARY_SW_QUAD_XY: 480231.43700 4961935.24600
RMSE_XY: 1.40000
IMAGE_SOURCE: BLACK AND WHITE FILM
SOURCE_IMAGE_ID: NAPP 8375 122
SOURCE_IMAGE_DATE: 1995 08 12
SOURCE_IMAGE_ID: NAPP 8375 121
SOURCE_IMAGE_DATE: 1995 08 12
SOURCE_DEM_DATE: 1977 00 00
AGENCY: WESTERN MAPPING CENTER (WMC)
PRODUCER: UNDEFINED
PRODUCTION_SYSTEM: GIS/MAGIC
COMPRESSION: UNDEFINED
STANDARD_VERSION: 1996 12
METADATA_DATE: 1997 11 13
DATA_FILE_SIZE: 42554864
BYTE_COUNT: 5623
