FILENAME: O4411115.SES.830098.tif
QUADRANGLE_NAME: MOUNT HEBGEN
QUADRANT: SE
WEST_LONGITUDE: -111 11 15.00000
EAST_LONGITUDE: -111 7 30.00000
NORTH_LATITUDE: 44 48 45.00000
SOUTH_LATITUDE: 44 45 0.00000
PRODUCTION_DATE: 1997 11 4
RASTER_ORDER: LEFT_RIGHT/TOP_BOTTOM
BAND_ORGANIZATION: SINGLE FILE
BAND_CONTENT: BLACK&WHITE
BAND_CONTENT: UNDEFINED
BAND_CONTENT: UNDEFINED
BITS_PER_PIXEL: 8
SAMPLES_AND_LINES: 5623 7563
HORIZONTAL_DATUM: NAD83
HORIZONTAL_COORDINATE_SYSTEM: UTM
COORDINATE_ZONE: 12
HORIZONTAL_UNITS: METERS
HORIZONTAL_RESOLUTION: 1.00000
SECONDARY_HORIZONTAL_DATUM: NAD27
XY_ORIGIN: 484795.00000 4962439.00000
SECONDARY_XY_ORIGIN: 484856.35700 4962229.94700
NATION: US
NATION: "SCIENCE
STATE: MT
NW_QUAD_CORNER_XY: 485174.01300 4962138.96700
NE_QUAD_CORNER_XY: 490116.00900 4962129.46900
SE_QUAD_CORNERY_XY: 490105.34000 4955186.77800
SW_QUAD_CORNER_XY: 485158.00900 4955196.27600
SECONDARY_NW_QUAD_XY: 485173.57800 4961921.94800
SECONDARY_NE_QUAD_XY: 490115.71900 4961912.44900
SECONDARY_SE_QUAD_XY: 490105.04900 4954969.81600
SECONDARY_SW_QUAD_XY: 485157.57400 4954979.31500
RMSE_XY: 1.70000
IMAGE_SOURCE: BLACK AND WHITE FILM
SOURCE_IMAGE_ID: NAPP 8375 143
SOURCE_IMAGE_DATE: 1995 08 12
SOURCE_DEM_DATE: 1977 00 00
AGENCY: WESTERN MAPPING CENTER (WMC)
PRODUCER: UNDEFINED
PRODUCTION_SYSTEM: GIS/MAGIC
COMPRESSION: UNDEFINED
STANDARD_VERSION: 1996 12
METADATA_DATE: 1997 11 13
DATA_FILE_SIZE: 42532372
BYTE_COUNT: 5623
