FILENAME: O4411114.NES.830108.tif
QUADRANGLE_NAME: HEBGEN DAM
QUADRANT: NE
WEST_LONGITUDE: -111 18 45.00000
EAST_LONGITUDE: -111 15 0.00000
NORTH_LATITUDE: 44 52 30.00000
SOUTH_LATITUDE: 44 48 45.00000
PRODUCTION_DATE: 1997 11 4
RASTER_ORDER: LEFT_RIGHT/TOP_BOTTOM
BAND_ORGANIZATION: SINGLE FILE
BAND_CONTENT: BLACK&WHITE
BAND_CONTENT: UNDEFINED
BAND_CONTENT: UNDEFINED
BITS_PER_PIXEL: 8
SAMPLES_AND_LINES: 5629 7571
HORIZONTAL_DATUM: NAD83
HORIZONTAL_COORDINATE_SYSTEM: UTM
COORDINATE_ZONE: 12
HORIZONTAL_UNITS: METERS
HORIZONTAL_RESOLUTION: 1.00000
SECONDARY_HORIZONTAL_DATUM: NAD27
XY_ORIGIN: 474926.00000 4969413.00000
SECONDARY_XY_ORIGIN: 474987.47600 4969203.87200
NATION: US
NATION: "SCIENCE
STATE: MT
NW_QUAD_CORNER_XY: 475316.72500 4969112.13100
NE_QUAD_CORNER_XY: 480253.38000 4969095.03300
SE_QUAD_CORNERY_XY: 480232.01800 4962152.26500
SW_QUAD_CORNER_XY: 475290.02200 4962169.36300
SECONDARY_NW_QUAD_XY: 475315.99800 4968895.05400
SECONDARY_NE_QUAD_XY: 480252.79900 4968877.95600
SECONDARY_SE_QUAD_XY: 480231.43700 4961935.24600
SECONDARY_SW_QUAD_XY: 475289.29500 4961952.34400
RMSE_XY: 3.70000
IMAGE_SOURCE: BLACK AND WHITE FILM
SOURCE_IMAGE_ID: NAPP 8375 219
SOURCE_IMAGE_DATE: 1995 08 12
SOURCE_IMAGE_ID: NAPP 8375 220
SOURCE_IMAGE_DATE: 1995 08 12
SOURCE_IMAGE_ID: NAPP 8375 218
SOURCE_IMAGE_DATE: 1995 08 12
SOURCE_DEM_DATE: 1980 07 00
AGENCY: WESTERN MAPPING CENTER (WMC)
PRODUCER: UNDEFINED
PRODUCTION_SYSTEM: GIS/MAGIC
COMPRESSION: UNDEFINED
STANDARD_VERSION: 1996 12
METADATA_DATE: 1997 11 13
DATA_FILE_SIZE: 42622788
BYTE_COUNT: 5629
