FILENAME: O4411114.SES.830110.tif
QUADRANGLE_NAME: HEBGEN DAM
QUADRANT: SE
WEST_LONGITUDE: -111 18 45.00000
EAST_LONGITUDE: -111 15 0.00000
NORTH_LATITUDE: 44 48 45.00000
SOUTH_LATITUDE: 44 45 0.00000
PRODUCTION_DATE: 1997 11 4
RASTER_ORDER: LEFT_RIGHT/TOP_BOTTOM
BAND_ORGANIZATION: SINGLE FILE
BAND_CONTENT: BLACK&WHITE
BAND_CONTENT: UNDEFINED
BAND_CONTENT: UNDEFINED
BITS_PER_PIXEL: 8
SAMPLES_AND_LINES: 5634 7571
HORIZONTAL_DATUM: NAD83
HORIZONTAL_COORDINATE_SYSTEM: UTM
COORDINATE_ZONE: 12
HORIZONTAL_UNITS: METERS
HORIZONTAL_RESOLUTION: 1.00000
SECONDARY_HORIZONTAL_DATUM: NAD27
XY_ORIGIN: 474900.00000 4962470.00000
SECONDARY_XY_ORIGIN: 474961.50100 4962261.01200
NATION: US
NATION: "SCIENCE
STATE: MT
NW_QUAD_CORNER_XY: 475290.02200 4962169.36300
NE_QUAD_CORNER_XY: 480232.01800 4962152.26500
SE_QUAD_CORNERY_XY: 480210.67900 4955209.57400
SW_QUAD_CORNER_XY: 475263.34800 4955226.67100
SECONDARY_NW_QUAD_XY: 475289.29500 4961952.34400
SECONDARY_NE_QUAD_XY: 480231.43700 4961935.24600
SECONDARY_SE_QUAD_XY: 480210.09800 4954992.61300
SECONDARY_SW_QUAD_XY: 475262.62200 4955009.71100
RMSE_XY: 1.70000
IMAGE_SOURCE: BLACK AND WHITE FILM
SOURCE_IMAGE_ID: NAPP 8375 221
SOURCE_IMAGE_DATE: 1995 08 12
SOURCE_IMAGE_ID: NAPP 8375 220
SOURCE_IMAGE_DATE: 1995 08 12
SOURCE_DEM_DATE: 1980 07 00
AGENCY: WESTERN MAPPING CENTER (WMC)
PRODUCER: UNDEFINED
PRODUCTION_SYSTEM: GIS/MAGIC
COMPRESSION: UNDEFINED
STANDARD_VERSION: 1996 12
METADATA_DATE: 1997 11 13
DATA_FILE_SIZE: 42660648
BYTE_COUNT: 5634
