FILENAME: O4411114.SWS.830111.tif
QUADRANGLE_NAME: HEBGEN DAM
QUADRANT: SW
WEST_LONGITUDE: -111 22 30.00000
EAST_LONGITUDE: -111 18 45.00000
NORTH_LATITUDE: 44 48 45.00000
SOUTH_LATITUDE: 44 45 0.00000
PRODUCTION_DATE: 1997 11 4
RASTER_ORDER: LEFT_RIGHT/TOP_BOTTOM
BAND_ORGANIZATION: SINGLE FILE
BAND_CONTENT: BLACK&WHITE
BAND_CONTENT: UNDEFINED
BAND_CONTENT: UNDEFINED
BITS_PER_PIXEL: 8
SAMPLES_AND_LINES: 5640 7575
HORIZONTAL_DATUM: NAD83
HORIZONTAL_COORDINATE_SYSTEM: UTM
COORDINATE_ZONE: 12
HORIZONTAL_UNITS: METERS
HORIZONTAL_RESOLUTION: 1.00000
SECONDARY_HORIZONTAL_DATUM: NAD27
XY_ORIGIN: 469952.00000 4962491.00000
SECONDARY_XY_ORIGIN: 470013.57900 4962282.02600
NATION: US
NATION: "SCIENCE
STATE: MT
STATE: ID
NW_QUAD_CORNER_XY: 470348.02600 4962190.26000
NE_QUAD_CORNER_XY: 475290.02200 4962169.36300
SE_QUAD_CORNERY_XY: 475263.34800 4955226.67100
SW_QUAD_CORNER_XY: 470316.01700 4955247.56800
SECONDARY_NW_QUAD_XY: 470347.15400 4961973.24200
SECONDARY_NE_QUAD_XY: 475289.29500 4961952.34400
SECONDARY_SE_QUAD_XY: 475262.62200 4955009.71100
SECONDARY_SW_QUAD_XY: 470315.14600 4955030.60800
RMSE_XY: 2.30000
IMAGE_SOURCE: BLACK AND WHITE FILM
SOURCE_IMAGE_ID: NAPP 8374 006
SOURCE_IMAGE_DATE: 1995 08 12
SOURCE_IMAGE_ID: NAPP 8374 005
SOURCE_IMAGE_DATE: 1995 08 12
SOURCE_IMAGE_ID: NAPP 8374 007
SOURCE_IMAGE_DATE: 1995 08 12
SOURCE_DEM_DATE: 1980 07 00
AGENCY: WESTERN MAPPING CENTER (WMC)
PRODUCER: UNDEFINED
PRODUCTION_SYSTEM: GIS/MAGIC
COMPRESSION: UNDEFINED
STANDARD_VERSION: 1996 12
METADATA_DATE: 1997 11 13
DATA_FILE_SIZE: 42728640
BYTE_COUNT: 5640
