FILENAME: O4411110.NES.789305.tif
QUADRANGLE_NAME: WINDY HILL
QUADRANT: NE
WEST_LONGITUDE: -111 48 45.00000
EAST_LONGITUDE: -111 45 0.00000
NORTH_LATITUDE: 44 52 30.00000
SOUTH_LATITUDE: 44 48 45.00000
PRODUCTION_DATE: 1997 11 4
RASTER_ORDER: LEFT_RIGHT/TOP_BOTTOM
BAND_ORGANIZATION: SINGLE FILE
BAND_CONTENT: BLACK&WHITE
BAND_CONTENT: UNDEFINED
BAND_CONTENT: UNDEFINED
BITS_PER_PIXEL: 8
SAMPLES_AND_LINES: 5670 7599
HORIZONTAL_DATUM: NAD83
HORIZONTAL_COORDINATE_SYSTEM: UTM
COORDINATE_ZONE: 12
HORIZONTAL_UNITS: METERS
HORIZONTAL_RESOLUTION: 1.00000
SECONDARY_HORIZONTAL_DATUM: NAD27
XY_ORIGIN: 435390.73100 4969685.20600
SECONDARY_XY_ORIGIN: 435452.55100 4969476.30400
NATION: US
STATE: MT
NW_QUAD_CORNER_XY: 435823.47300 4969385.70600
NE_QUAD_CORNER_XY: 440760.13100 4969338.20900
SE_QUAD_CORNERY_XY: 440696.04100 4962395.43800
SW_QUAD_CORNER_XY: 435754.04100 4962442.93400
SECONDARY_NW_QUAD_XY: 435821.58500 4969168.63700
SECONDARY_NE_QUAD_XY: 440758.38800 4969121.13900
SECONDARY_SE_QUAD_XY: 440694.29800 4962178.42500
SECONDARY_SW_QUAD_XY: 435752.15300 4962225.92300
RMSE_XY: 2.40000
IMAGE_SOURCE: BLACK AND WHITE FILM
SOURCE_IMAGE_ID: NAPP 8374 176
SOURCE_IMAGE_DATE: 1995 8 12
SOURCE_DEM_DATE: 1997 11 4
AGENCY: WESTERN MAPPING CENTER (WMC)
PRODUCER: NIES MAPPING GROUP
PRODUCTION_SYSTEM: INTERGRAPH- ISPM,ISIR
COMPRESSION: UNDEFINED
STANDARD_VERSION: 1996 12
METADATA_DATE: 1998 2 5
DATA_FILE_SIZE: 43092000
BYTE_COUNT: 5670
