FILENAME: O4411110.SWS.789308.tif
QUADRANGLE_NAME: WINDY HILL
QUADRANT: SW
WEST_LONGITUDE: -111 52 30.00000
EAST_LONGITUDE: -111 48 45.00000
NORTH_LATITUDE: 44 48 45.00000
SOUTH_LATITUDE: 44 45 0.00000
PRODUCTION_DATE: 1997 11 4
RASTER_ORDER: LEFT_RIGHT/TOP_BOTTOM
BAND_ORGANIZATION: SINGLE FILE
BAND_CONTENT: BLACK&WHITE
BAND_CONTENT: UNDEFINED
BAND_CONTENT: UNDEFINED
BITS_PER_PIXEL: 8
SAMPLES_AND_LINES: 5681 7603
HORIZONTAL_DATUM: NAD83
HORIZONTAL_COORDINATE_SYSTEM: UTM
COORDINATE_ZONE: 12
HORIZONTAL_UNITS: METERS
HORIZONTAL_RESOLUTION: 1.00000
SECONDARY_HORIZONTAL_DATUM: NAD27
XY_ORIGIN: 430373.68800 4962793.73000
SECONDARY_XY_ORIGIN: 430435.63800 4962585.17000
NATION: US
STATE: MT
NW_QUAD_CORNER_XY: 430812.04200 4962494.23000
NE_QUAD_CORNER_XY: 435754.04100 4962442.93400
SE_QUAD_CORNERY_XY: 435684.68600 4955500.23600
SW_QUAD_CORNER_XY: 430737.35100 4955551.53200
SECONDARY_NW_QUAD_XY: 430810.00800 4962277.22000
SECONDARY_NE_QUAD_XY: 435752.15300 4962225.92300
SECONDARY_SE_QUAD_XY: 435682.79800 4955283.28400
SECONDARY_SW_QUAD_XY: 430735.31800 4955334.58100
RMSE_XY: 3.80000
IMAGE_SOURCE: BLACK AND WHITE FILM
SOURCE_IMAGE_ID: NAPP 8376 220
SOURCE_IMAGE_DATE: 1995 8 15
SOURCE_DEM_DATE: 1997 11 4
AGENCY: WESTERN MAPPING CENTER (WMC)
PRODUCER: NIES MAPPING GROUP
PRODUCTION_SYSTEM: INTERGRAPH- ISPM,ISIR
COMPRESSION: UNDEFINED
STANDARD_VERSION: 1996 12
METADATA_DATE: 1998 2 5
DATA_FILE_SIZE: 43198324
BYTE_COUNT: 5681
