FILENAME: O4411109.SWS.789304.tif
QUADRANGLE_NAME: EUREKA BASIN
QUADRANT: SW
WEST_LONGITUDE: -112 0 0.00000
EAST_LONGITUDE: -111 56 15.00000
NORTH_LATITUDE: 44 48 45.00000
SOUTH_LATITUDE: 44 45 0.00000
PRODUCTION_DATE: 1997 11 21
RASTER_ORDER: LEFT_RIGHT/TOP_BOTTOM
BAND_ORGANIZATION: SINGLE FILE
BAND_CONTENT: BLACK&WHITE
BAND_CONTENT: UNDEFINED
BAND_CONTENT: UNDEFINED
BITS_PER_PIXEL: 8
SAMPLES_AND_LINES: 5692 7610
HORIZONTAL_DATUM: NAD83
HORIZONTAL_COORDINATE_SYSTEM: UTM
COORDINATE_ZONE: 12
HORIZONTAL_UNITS: METERS
HORIZONTAL_RESOLUTION: 1.00000
SECONDARY_HORIZONTAL_DATUM: NAD27
XY_ORIGIN: 420478.49400 4962907.72300
SECONDARY_XY_ORIGIN: 420540.51500 4962699.37000
NATION: US
STATE: MT
NW_QUAD_CORNER_XY: 420928.04000 4962608.22300
NE_QUAD_CORNER_XY: 425870.04100 4962549.32600
SE_QUAD_CORNERY_XY: 425790.01400 4955606.62700
SW_QUAD_CORNER_XY: 420842.67700 4955665.52300
SECONDARY_NW_QUAD_XY: 420925.71600 4962391.21700
SECONDARY_NE_QUAD_XY: 425867.86200 4962332.31800
SECONDARY_SE_QUAD_XY: 425787.83600 4955389.67800
SECONDARY_SW_QUAD_XY: 420840.35300 4955448.57500
RMSE_XY: 3.60000
IMAGE_SOURCE: BLACK AND WHITE FILM
SOURCE_IMAGE_ID: NAPP 8376 142
SOURCE_IMAGE_DATE: 1995 8 15
SOURCE_DEM_DATE: 1997 11 21
AGENCY: WESTERN MAPPING CENTER (WMC)
PRODUCER: NIES MAPPING GROUP
PRODUCTION_SYSTEM: INTERGRAPH- ISPM,ISIR
COMPRESSION: UNDEFINED
STANDARD_VERSION: 1996 12
METADATA_DATE: 1998 2 5
DATA_FILE_SIZE: 43321812
BYTE_COUNT: 5692
