FILENAME: O4411107.SES.830094.tif
QUADRANGLE_NAME: UPPER TEPEE BASIN
QUADRANT: SE
WEST_LONGITUDE: -111 11 15.00000
EAST_LONGITUDE: -111 7 30.00000
NORTH_LATITUDE: 44 56 15.00000
SOUTH_LATITUDE: 44 52 30.00000
PRODUCTION_DATE: 1997 11 4
RASTER_ORDER: LEFT_RIGHT/TOP_BOTTOM
BAND_ORGANIZATION: SINGLE FILE
BAND_CONTENT: BLACK&WHITE
BAND_CONTENT: UNDEFINED
BAND_CONTENT: UNDEFINED
BITS_PER_PIXEL: 8
SAMPLES_AND_LINES: 5612 7563
HORIZONTAL_DATUM: NAD83
HORIZONTAL_COORDINATE_SYSTEM: UTM
COORDINATE_ZONE: 12
HORIZONTAL_UNITS: METERS
HORIZONTAL_RESOLUTION: 1.00000
SECONDARY_HORIZONTAL_DATUM: NAD27
XY_ORIGIN: 484827.00000 4976325.00000
SECONDARY_XY_ORIGIN: 484888.33000 4976115.72000
NATION: US
NATION: "SCIENCE
STATE: MT
NW_QUAD_CORNER_XY: 485206.07500 4976024.57800
NE_QUAD_CORNER_XY: 490137.38300 4976015.07900
SE_QUAD_CORNERY_XY: 490126.69000 4969072.23600
SW_QUAD_CORNER_XY: 485190.03500 4969081.73500
SECONDARY_NW_QUAD_XY: 485205.63900 4975807.44400
SECONDARY_NE_QUAD_XY: 490137.09200 4975797.94500
SECONDARY_SE_QUAD_XY: 490126.40000 4968855.15800
SECONDARY_SW_QUAD_XY: 485189.59900 4968864.65700
RMSE_XY: 2.00000
IMAGE_SOURCE: BLACK AND WHITE FILM
SOURCE_IMAGE_ID: NAPP 8375 147
SOURCE_IMAGE_DATE: 1995 08 12
SOURCE_IMAGE_ID: NAPP 8375 120
SOURCE_IMAGE_DATE: 1995 08 12
SOURCE_DEM_DATE: 1997 01 01
AGENCY: WESTERN MAPPING CENTER (WMC)
PRODUCER: UNDEFINED
PRODUCTION_SYSTEM: GIS/MAGIC
COMPRESSION: UNDEFINED
STANDARD_VERSION: 1996 12
METADATA_DATE: 1997 11 13
DATA_FILE_SIZE: 42449168
BYTE_COUNT: 5612
