FILENAME: O4411107.SWS.830095.tif
QUADRANGLE_NAME: UPPER TEPEE BASIN
QUADRANT: SW
WEST_LONGITUDE: -111 15 0.00000
EAST_LONGITUDE: -111 11 15.00000
NORTH_LATITUDE: 44 56 15.00000
SOUTH_LATITUDE: 44 52 30.00000
PRODUCTION_DATE: 1997 11 4
RASTER_ORDER: LEFT_RIGHT/TOP_BOTTOM
BAND_ORGANIZATION: SINGLE FILE
BAND_CONTENT: BLACK&WHITE
BAND_CONTENT: UNDEFINED
BAND_CONTENT: UNDEFINED
BITS_PER_PIXEL: 8
SAMPLES_AND_LINES: 5618 7567
HORIZONTAL_DATUM: NAD83
HORIZONTAL_COORDINATE_SYSTEM: UTM
COORDINATE_ZONE: 12
HORIZONTAL_UNITS: METERS
HORIZONTAL_RESOLUTION: 1.00000
SECONDARY_HORIZONTAL_DATUM: NAD27
XY_ORIGIN: 479890.00000 4976338.00000
SECONDARY_XY_ORIGIN: 479951.38100 4976128.75100
NATION: US
NATION: "SCIENCE
STATE: MT
NW_QUAD_CORNER_XY: 480274.76600 4976037.87700
NE_QUAD_CORNER_XY: 485206.07500 4976024.57800
SE_QUAD_CORNERY_XY: 485190.03500 4969081.73500
SW_QUAD_CORNER_XY: 480253.38000 4969095.03300
SECONDARY_NW_QUAD_XY: 480274.18500 4975820.74300
SECONDARY_NE_QUAD_XY: 485205.63900 4975807.44400
SECONDARY_SE_QUAD_XY: 485189.59900 4968864.65700
SECONDARY_SW_QUAD_XY: 480252.79900 4968877.95600
RMSE_XY: 1.80000
IMAGE_SOURCE: BLACK AND WHITE FILM
SOURCE_IMAGE_ID: NAPP 8375 120
SOURCE_IMAGE_DATE: 1995 08 12
SOURCE_IMAGE_ID: NAPP 8375 122
SOURCE_IMAGE_DATE: 1995 08 12
SOURCE_IMAGE_ID: NAPP 8375 119
SOURCE_IMAGE_DATE: 1995 08 12
SOURCE_DEM_DATE: 1997 01 01
AGENCY: WESTERN MAPPING CENTER (WMC)
PRODUCER: UNDEFINED
PRODUCTION_SYSTEM: GIS/MAGIC
COMPRESSION: UNDEFINED
STANDARD_VERSION: 1996 12
METADATA_DATE: 1997 11 13
DATA_FILE_SIZE: 42517024
BYTE_COUNT: 5618
