FILENAME: O4411106.NES.830101.tif
QUADRANGLE_NAME: PIKA POINT
QUADRANT: NE
WEST_LONGITUDE: -111 18 45.00000
EAST_LONGITUDE: -111 15 0.00000
NORTH_LATITUDE: 45 0 0.00000
SOUTH_LATITUDE: 44 56 15.00000
PRODUCTION_DATE: 1997 11 4
RASTER_ORDER: LEFT_RIGHT/TOP_BOTTOM
BAND_ORGANIZATION: SINGLE FILE
BAND_CONTENT: BLACK&WHITE
BAND_CONTENT: UNDEFINED
BAND_CONTENT: UNDEFINED
BITS_PER_PIXEL: 8
SAMPLES_AND_LINES: 5618 7571
HORIZONTAL_DATUM: NAD83
HORIZONTAL_COORDINATE_SYSTEM: UTM
COORDINATE_ZONE: 12
HORIZONTAL_UNITS: METERS
HORIZONTAL_RESOLUTION: 1.00000
SECONDARY_HORIZONTAL_DATUM: NAD27
XY_ORIGIN: 474980.00000 4983298.00000
SECONDARY_XY_ORIGIN: 475041.42700 4983088.59400
NATION: US
NATION: "SCIENCE
STATE: MT
NW_QUAD_CORNER_XY: 475370.22000 4982997.89500
NE_QUAD_CORNER_XY: 480296.17600 4982980.79600
SE_QUAD_CORNERY_XY: 480274.76600 4976037.87700
SW_QUAD_CORNER_XY: 475343.45700 4976054.97500
SECONDARY_NW_QUAD_XY: 475369.49300 4982780.70500
SECONDARY_NE_QUAD_XY: 480295.59400 4982763.60600
SECONDARY_SE_QUAD_XY: 480274.18500 4975820.74300
SECONDARY_SW_QUAD_XY: 475342.73100 4975837.84100
RMSE_XY: 2.50000
IMAGE_SOURCE: BLACK AND WHITE FILM
SOURCE_IMAGE_ID: NAPP 8375 215
SOURCE_IMAGE_DATE: 1995 08 12
SOURCE_IMAGE_ID: NAPP 8374 012
SOURCE_IMAGE_DATE: 1995 08 12
SOURCE_IMAGE_ID: NAPP 8375 217
SOURCE_IMAGE_DATE: 1995 08 12
SOURCE_IMAGE_ID: NAPP 8375 118
SOURCE_IMAGE_DATE: 1995 08 12
SOURCE_DEM_DATE: 1980 08 00
AGENCY: WESTERN MAPPING CENTER (WMC)
PRODUCER: UNDEFINED
PRODUCTION_SYSTEM: GIS/MAGIC
COMPRESSION: UNDEFINED
STANDARD_VERSION: 1996 12
METADATA_DATE: 1997 11 13
DATA_FILE_SIZE: 42539496
BYTE_COUNT: 5618
