FILENAME: O4411106.NWS.830104.tif
QUADRANGLE_NAME: PIKA POINT
QUADRANT: NW
WEST_LONGITUDE: -111 22 30.00000
EAST_LONGITUDE: -111 18 45.00000
NORTH_LATITUDE: 45 0 0.00000
SOUTH_LATITUDE: 44 56 15.00000
PRODUCTION_DATE: 1997 11 4
RASTER_ORDER: LEFT_RIGHT/TOP_BOTTOM
BAND_ORGANIZATION: SINGLE FILE
BAND_CONTENT: BLACK&WHITE
BAND_CONTENT: UNDEFINED
BAND_CONTENT: UNDEFINED
BITS_PER_PIXEL: 8
SAMPLES_AND_LINES: 5624 7574
HORIZONTAL_DATUM: NAD83
HORIZONTAL_COORDINATE_SYSTEM: UTM
COORDINATE_ZONE: 12
HORIZONTAL_UNITS: METERS
HORIZONTAL_RESOLUTION: 1.00000
SECONDARY_HORIZONTAL_DATUM: NAD27
XY_ORIGIN: 470048.00000 4983319.00000
SECONDARY_XY_ORIGIN: 470109.49400 4983109.56200
NATION: US
NATION: "SCIENCE
STATE: MT
NW_QUAD_CORNER_XY: 470444.26400 4983018.79200
NE_QUAD_CORNER_XY: 475370.22000 4982997.89500
SE_QUAD_CORNERY_XY: 475343.45700 4976054.97500
SW_QUAD_CORNER_XY: 470412.14900 4976075.87200
SECONDARY_NW_QUAD_XY: 470443.39100 4982801.60400
SECONDARY_NE_QUAD_XY: 475369.49300 4982780.70500
SECONDARY_SE_QUAD_XY: 475342.73100 4975837.84100
SECONDARY_SW_QUAD_XY: 470411.27700 4975858.73900
RMSE_XY: 2.20000
IMAGE_SOURCE: BLACK AND WHITE FILM
SOURCE_IMAGE_ID: NAPP 8374 012
SOURCE_IMAGE_DATE: 1995 08 12
SOURCE_IMAGE_ID: NAPP 8374 010
SOURCE_IMAGE_DATE: 1995 08 12
SOURCE_DEM_DATE: 1980 08 00
AGENCY: WESTERN MAPPING CENTER (WMC)
PRODUCER: UNDEFINED
PRODUCTION_SYSTEM: GIS/MAGIC
COMPRESSION: UNDEFINED
STANDARD_VERSION: 1996 12
METADATA_DATE: 1997 11 13
DATA_FILE_SIZE: 42601800
BYTE_COUNT: 5624
