FILENAME: O4411105.NWS.980212.tif
QUADRANGLE_NAME: HILGARD PEAK
QUADRANT: NW
WEST_LONGITUDE: -111 30 0.00000
EAST_LONGITUDE: -111 26 15.00000
NORTH_LATITUDE: 45 0 0.00000
SOUTH_LATITUDE: 44 56 15.00000
PRODUCTION_DATE: 1999 3 8
RASTER_ORDER: LEFT_RIGHT/TOP_BOTTOM
BAND_ORGANIZATION: SINGLE FILE
BAND_CONTENT: BLACK&WHITE
BAND_CONTENT: UNDEFINED
BAND_CONTENT: UNDEFINED
BITS_PER_PIXEL: 8
SAMPLES_AND_LINES: 5635 7582
HORIZONTAL_DATUM: NAD83
HORIZONTAL_COORDINATE_SYSTEM: UTM
COORDINATE_ZONE: 12
HORIZONTAL_UNITS: METERS
HORIZONTAL_RESOLUTION: 1.00000
SECONDARY_HORIZONTAL_DATUM: NAD27
XY_ORIGIN: 460185.00000 4983372.00000
SECONDARY_XY_ORIGIN: 460246.62900 4983162.49800
NATION: US
NATION: "SCIENCE
STATE: MT
NW_QUAD_CORNER_XY: 460592.35100 4983071.98700
NE_QUAD_CORNER_XY: 465518.30700 4983043.49000
SE_QUAD_CORNERY_XY: 465480.84000 4976100.57000
SW_QUAD_CORNER_XY: 460549.53100 4976129.06700
SECONDARY_NW_QUAD_XY: 460591.18800 4982854.80000
SECONDARY_NE_QUAD_XY: 465517.29000 4982826.30200
SECONDARY_SE_QUAD_XY: 465479.82200 4975883.43800
SECONDARY_SW_QUAD_XY: 460548.36800 4975911.93600
RMSE_XY: 2.10000
IMAGE_SOURCE: BLACK AND WHITE FILM
SOURCE_IMAGE_ID: NAPP 8374 078
SOURCE_IMAGE_DATE: 1995 08 12
SOURCE_IMAGE_ID: NAPP 8374 114
SOURCE_IMAGE_DATE: 1995 08 12
SOURCE_IMAGE_ID: NAPP 8374 112
SOURCE_IMAGE_DATE: 1995 08 12
SOURCE_IMAGE_ID: NAPP 8374 077
SOURCE_IMAGE_DATE: 1995 08 12
SOURCE_IMAGE_ID: NAPP 8374 079
SOURCE_IMAGE_DATE: 1995 08 12
SOURCE_DEM_DATE: 1982 00 00
AGENCY: WESTERN MAPPING CENTER (WMC)
PRODUCER: UNDEFINED
PRODUCTION_SYSTEM: GIS/MAGIC
COMPRESSION: UNDEFINED
STANDARD_VERSION: 1996 12
METADATA_DATE: 1999 03 26
DATA_FILE_SIZE: 42730205
BYTE_COUNT: 5635
