FILENAME: O4411105.SES.980219.tif
QUADRANGLE_NAME: HILGARD PEAK
QUADRANT: SE
WEST_LONGITUDE: -111 26 15.00000
EAST_LONGITUDE: -111 22 30.00000
NORTH_LATITUDE: 44 56 15.00000
SOUTH_LATITUDE: 44 52 30.00000
PRODUCTION_DATE: 1999 3 8
RASTER_ORDER: LEFT_RIGHT/TOP_BOTTOM
BAND_ORGANIZATION: SINGLE FILE
BAND_CONTENT: BLACK&WHITE
BAND_CONTENT: UNDEFINED
BAND_CONTENT: UNDEFINED
BITS_PER_PIXEL: 8
SAMPLES_AND_LINES: 5635 7578
HORIZONTAL_DATUM: NAD83
HORIZONTAL_COORDINATE_SYSTEM: UTM
COORDINATE_ZONE: 12
HORIZONTAL_UNITS: METERS
HORIZONTAL_RESOLUTION: 1.00000
SECONDARY_HORIZONTAL_DATUM: NAD27
XY_ORIGIN: 465079.00000 4976401.00000
SECONDARY_XY_ORIGIN: 465140.59300 4976191.69900
NATION: US
NATION: "SCIENCE
STATE: MT
NW_QUAD_CORNER_XY: 465480.84000 4976100.57000
NE_QUAD_CORNER_XY: 470412.14900 4976075.87200
SE_QUAD_CORNERY_XY: 470380.06900 4969133.02800
SW_QUAD_CORNER_XY: 465443.41400 4969157.72500
SECONDARY_NW_QUAD_XY: 465479.82200 4975883.43800
SECONDARY_NE_QUAD_XY: 470411.27700 4975858.73900
SECONDARY_SE_QUAD_XY: 470379.19800 4968915.95200
SECONDARY_SW_QUAD_XY: 465442.39700 4968940.65000
RMSE_XY: 3.70000
IMAGE_SOURCE: BLACK AND WHITE FILM
SOURCE_IMAGE_ID: NAPP 8374 049
SOURCE_IMAGE_DATE: 1995 08 12
SOURCE_IMAGE_ID: NAPP 8374 077
SOURCE_IMAGE_DATE: 1995 08 12
SOURCE_IMAGE_ID: NAPP 8374 050
SOURCE_IMAGE_DATE: 1995 08 12
SOURCE_IMAGE_ID: NAPP 8374 048
SOURCE_IMAGE_DATE: 1995 08 12
SOURCE_DEM_DATE: 1982 00 00
AGENCY: WESTERN MAPPING CENTER (WMC)
PRODUCER: UNDEFINED
PRODUCTION_SYSTEM: GIS/MAGIC
COMPRESSION: UNDEFINED
STANDARD_VERSION: 1996 12
METADATA_DATE: 1999 03 26
DATA_FILE_SIZE: 42707665
BYTE_COUNT: 5635
