FILENAME: O4411104.NWS.979519.tif
QUADRANGLE_NAME: SQUAW CREEK
QUADRANT: NW
WEST_LONGITUDE: -111 37 30.00000
EAST_LONGITUDE: -111 33 45.00000
NORTH_LATITUDE: 45 0 0.00000
SOUTH_LATITUDE: 44 56 15.00000
PRODUCTION_DATE: 1999 3 8
RASTER_ORDER: LEFT_RIGHT/TOP_BOTTOM
BAND_ORGANIZATION: SINGLE FILE
BAND_CONTENT: BLACK&WHITE
BAND_CONTENT: UNDEFINED
BAND_CONTENT: UNDEFINED
BITS_PER_PIXEL: 8
SAMPLES_AND_LINES: 5646 7590
HORIZONTAL_DATUM: NAD83
HORIZONTAL_COORDINATE_SYSTEM: UTM
COORDINATE_ZONE: 12
HORIZONTAL_UNITS: METERS
HORIZONTAL_RESOLUTION: 1.00000
SECONDARY_HORIZONTAL_DATUM: NAD27
XY_ORIGIN: 450322.00000 4983441.00000
SECONDARY_XY_ORIGIN: 450383.73700 4983231.50900
NATION: US
NATION: "SCIENCE
STATE: MT
NW_QUAD_CORNER_XY: 450740.43800 4983140.38200
NE_QUAD_CORNER_XY: 455666.39500 4983104.28400
SE_QUAD_CORNERY_XY: 455618.22200 4976161.36400
SW_QUAD_CORNER_XY: 450686.91200 4976197.46100
SECONDARY_NW_QUAD_XY: 450738.98400 4982923.19600
SECONDARY_NE_QUAD_XY: 455665.08600 4982887.09800
SECONDARY_SE_QUAD_XY: 455616.91300 4975944.23400
SECONDARY_SW_QUAD_XY: 450685.45900 4975980.33100
RMSE_XY: 1.90000
IMAGE_SOURCE: BLACK AND WHITE FILM
SOURCE_IMAGE_ID: NAPP 8376 117
SOURCE_IMAGE_DATE: 1995 08 15
SOURCE_DEM_DATE: 1992 00 00
AGENCY: WESTERN MAPPING CENTER (WMC)
PRODUCER: UNDEFINED
PRODUCTION_SYSTEM: GIS/MAGIC
COMPRESSION: UNDEFINED
STANDARD_VERSION: 1996 12
METADATA_DATE: 1999 03 26
DATA_FILE_SIZE: 42858786
BYTE_COUNT: 5646
