FILENAME: O4411104.SES.979523.tif
QUADRANGLE_NAME: SQUAW CREEK
QUADRANT: SE
WEST_LONGITUDE: -111 33 45.00000
EAST_LONGITUDE: -111 30 0.00000
NORTH_LATITUDE: 44 56 15.00000
SOUTH_LATITUDE: 44 52 30.00000
PRODUCTION_DATE: 1999 3 8
RASTER_ORDER: LEFT_RIGHT/TOP_BOTTOM
BAND_ORGANIZATION: SINGLE FILE
BAND_CONTENT: BLACK&WHITE
BAND_CONTENT: UNDEFINED
BAND_CONTENT: UNDEFINED
BITS_PER_PIXEL: 8
SAMPLES_AND_LINES: 5645 7586
HORIZONTAL_DATUM: NAD83
HORIZONTAL_COORDINATE_SYSTEM: UTM
COORDINATE_ZONE: 12
HORIZONTAL_UNITS: METERS
HORIZONTAL_RESOLUTION: 1.00000
SECONDARY_HORIZONTAL_DATUM: NAD27
XY_ORIGIN: 455206.00000 4976462.00000
SECONDARY_XY_ORIGIN: 455267.71100 4976252.70000
NATION: US
NATION: "SCIENCE
STATE: MT
NW_QUAD_CORNER_XY: 455618.22200 4976161.36400
NE_QUAD_CORNER_XY: 460549.53100 4976129.06700
SE_QUAD_CORNERY_XY: 460506.75800 4969186.22200
SW_QUAD_CORNER_XY: 455570.10200 4969218.51900
SECONDARY_NW_QUAD_XY: 455616.91300 4975944.23400
SECONDARY_NE_QUAD_XY: 460548.36800 4975911.93600
SECONDARY_SE_QUAD_XY: 460505.59500 4968969.14800
SECONDARY_SW_QUAD_XY: 455568.79400 4969001.44500
RMSE_XY: 1.80000
IMAGE_SOURCE: BLACK AND WHITE FILM
SOURCE_IMAGE_ID: NAPP 8374 115
SOURCE_IMAGE_DATE: 1995 08 12
SOURCE_IMAGE_ID: NAPP 8374 116
SOURCE_IMAGE_DATE: 1995 08 12
SOURCE_IMAGE_ID: NAPP 8374 114
SOURCE_IMAGE_DATE: 1995 08 12
SOURCE_DEM_DATE: 1992 00 00
AGENCY: WESTERN MAPPING CENTER (WMC)
PRODUCER: UNDEFINED
PRODUCTION_SYSTEM: GIS/MAGIC
COMPRESSION: UNDEFINED
STANDARD_VERSION: 1996 12
METADATA_DATE: 1999 03 26
DATA_FILE_SIZE: 42828615
BYTE_COUNT: 5645
