FILENAME: O4411102.SES.789287.tif
QUADRANGLE_NAME: BIG HORN MOUNTAIN
QUADRANT: SE
WEST_LONGITUDE: -111 48 45.00000
EAST_LONGITUDE: -111 45 0.00000
NORTH_LATITUDE: 44 56 15.00000
SOUTH_LATITUDE: 44 52 30.00000
PRODUCTION_DATE: 1997 11 25
RASTER_ORDER: LEFT_RIGHT/TOP_BOTTOM
BAND_ORGANIZATION: SINGLE FILE
BAND_CONTENT: BLACK&WHITE
BAND_CONTENT: UNDEFINED
BAND_CONTENT: UNDEFINED
BITS_PER_PIXEL: 8
SAMPLES_AND_LINES: 5665 7598
HORIZONTAL_DATUM: NAD83
HORIZONTAL_COORDINATE_SYSTEM: UTM
COORDINATE_ZONE: 12
HORIZONTAL_UNITS: METERS
HORIZONTAL_RESOLUTION: 1.00000
SECONDARY_HORIZONTAL_DATUM: NAD27
XY_ORIGIN: 435460.26000 4976628.05000
SECONDARY_XY_ORIGIN: 435521.98000 4976418.92000
NATION: US
STATE: MT
NW_QUAD_CORNER_XY: 435892.98000 4976328.55000
NE_QUAD_CORNER_XY: 440824.29000 4976281.05000
SE_QUAD_CORNERY_XY: 440760.13000 4969338.21000
SW_QUAD_CORNER_XY: 435823.47000 4969385.71000
SECONDARY_NW_QUAD_XY: 435891.09000 4976111.43000
SECONDARY_NE_QUAD_XY: 440822.55000 4976063.93000
SECONDARY_SE_QUAD_XY: 440758.39000 4969121.14000
SECONDARY_SW_QUAD_XY: 435821.59000 4969168.64000
RMSE_XY: 2.00000
IMAGE_SOURCE: BLACK AND WHITE FILM
SOURCE_IMAGE_ID: NAPP 8374 178
SOURCE_IMAGE_DATE: 1995 8 12
SOURCE_DEM_DATE: 1997 11 25
AGENCY: WESTERN MAPPING CENTER (WMC)
PRODUCER: NIES MAPPING GROUP
PRODUCTION_SYSTEM: INTERGRAPH- ISPM,ISIR
COMPRESSION: UNDEFINED
STANDARD_VERSION: 1996 12
METADATA_DATE: 1998 2 5
DATA_FILE_SIZE: 43048335
BYTE_COUNT: 5665
