FILENAME: O4411102.SWS.789288.tif
QUADRANGLE_NAME: BIG HORN MOUNTAIN
QUADRANT: SW
WEST_LONGITUDE: -111 52 30.00000
EAST_LONGITUDE: -111 48 45.00000
NORTH_LATITUDE: 44 56 15.00000
SOUTH_LATITUDE: 44 52 30.00000
PRODUCTION_DATE: 1997 11 25
RASTER_ORDER: LEFT_RIGHT/TOP_BOTTOM
BAND_ORGANIZATION: SINGLE FILE
BAND_CONTENT: BLACK&WHITE
BAND_CONTENT: UNDEFINED
BAND_CONTENT: UNDEFINED
BITS_PER_PIXEL: 8
SAMPLES_AND_LINES: 5670 7602
HORIZONTAL_DATUM: NAD83
HORIZONTAL_COORDINATE_SYSTEM: UTM
COORDINATE_ZONE: 12
HORIZONTAL_UNITS: METERS
HORIZONTAL_RESOLUTION: 1.00000
SECONDARY_HORIZONTAL_DATUM: NAD27
XY_ORIGIN: 430523.50000 4976679.35000
SECONDARY_XY_ORIGIN: 430585.09000 4976470.33000
NATION: US
STATE: MT
NW_QUAD_CORNER_XY: 430961.67000 4976379.85000
NE_QUAD_CORNER_XY: 435892.98000 4976328.55000
SE_QUAD_CORNERY_XY: 435823.47000 4969385.71000
SW_QUAD_CORNER_XY: 430886.82000 4969437.00000
SECONDARY_NW_QUAD_XY: 430959.64000 4976162.73000
SECONDARY_NE_QUAD_XY: 435891.09000 4976111.43000
SECONDARY_SE_QUAD_XY: 435821.59000 4969168.64000
SECONDARY_SW_QUAD_XY: 430884.78000 4969219.94000
RMSE_XY: 1.40000
IMAGE_SOURCE: BLACK AND WHITE FILM
SOURCE_IMAGE_ID: NAPP 8376 224
SOURCE_IMAGE_DATE: 1995 8 15
SOURCE_DEM_DATE: 1997 11 25
AGENCY: WESTERN MAPPING CENTER (WMC)
PRODUCER: NIES MAPPING GROUP
PRODUCTION_SYSTEM: INTERGRAPH- ISPM,ISIR
COMPRESSION: UNDEFINED
STANDARD_VERSION: 1996 12
METADATA_DATE: 1998 2 5
DATA_FILE_SIZE: 43109010
BYTE_COUNT: 5670
