FILENAME: O4411101.SWS.789284.tif
QUADRANGLE_NAME: IRON CREEK
QUADRANT: SW
WEST_LONGITUDE: -112 0 0.00000
EAST_LONGITUDE: -111 56 15.00000
NORTH_LATITUDE: 44 56 15.00000
SOUTH_LATITUDE: 44 52 30.00000
PRODUCTION_DATE: 1997 11 24
RASTER_ORDER: LEFT_RIGHT/TOP_BOTTOM
BAND_ORGANIZATION: SINGLE FILE
BAND_CONTENT: BLACK&WHITE
BAND_CONTENT: UNDEFINED
BAND_CONTENT: UNDEFINED
BITS_PER_PIXEL: 8
SAMPLES_AND_LINES: 5681 7610
HORIZONTAL_DATUM: NAD83
HORIZONTAL_COORDINATE_SYSTEM: UTM
COORDINATE_ZONE: 12
HORIZONTAL_UNITS: METERS
HORIZONTAL_RESOLUTION: 1.00000
SECONDARY_HORIZONTAL_DATUM: NAD27
XY_ORIGIN: 420649.98600 4976793.34600
SECONDARY_XY_ORIGIN: 420711.34100 4976584.53800
NATION: US
STATE: MT
NW_QUAD_CORNER_XY: 421099.05000 4976493.84600
NE_QUAD_CORNER_XY: 426030.36100 4976434.94800
SE_QUAD_CORNERY_XY: 425950.15700 4969492.10000
SW_QUAD_CORNER_XY: 421013.49800 4969550.99800
SECONDARY_NW_QUAD_XY: 421096.72500 4976276.72600
SECONDARY_NE_QUAD_XY: 426028.18100 4976217.82600
SECONDARY_SE_QUAD_XY: 425947.97700 4969275.03400
SECONDARY_SW_QUAD_XY: 421011.17300 4969333.93400
RMSE_XY: 4.00000
IMAGE_SOURCE: BLACK AND WHITE FILM
SOURCE_IMAGE_ID: NAPP 8376 146
SOURCE_IMAGE_DATE: 1995 8 15
SOURCE_DEM_DATE: 1997 11 24
AGENCY: WESTERN MAPPING CENTER (WMC)
PRODUCER: NIES MAPPING GROUP
PRODUCTION_SYSTEM: INTERGRAPH- ISPM,ISIR
COMPRESSION: UNDEFINED
STANDARD_VERSION: 1996 12
METADATA_DATE: 1998 2 5
DATA_FILE_SIZE: 43238091
BYTE_COUNT: 5681
