BEGIN_USGS_DOQ_HEADER *
QUADRANGLE_NAME "SCOTT PEAK" *
QUADRANT NW *
WEST_LONGITUDE -112 52 30.000 *
EAST_LONGITUDE -112 48 45.000 *
NORTH_LATITUDE 44 22 30.000 *
SOUTH_LATITUDE 44 18 45.000 *
PRODUCTION_DATE 2003 4 19 *
RASTER_ORDER LEFT_RIGHT/TOP_BOTTOM *
BAND_ORGANIZATION "SINGLE FILE" *
BAND_CONTENT BLACK&WHITE *
BITS_PER_PIXEL 8 *
SAMPLES_AND_LINES 5805 7663 *
HORIZONTAL_DATUM NAD83 *
HORIZONTAL_COORDINATE_SYSTEM UTM *
COORDINATE_ZONE 12 *
HORIZONTAL_UNITS METERS *
HORIZONTAL_RESOLUTION 1.0 *
SECONDARY_HORIZONTAL_DATUM NAD27 *
XY_ORIGIN 350097.084 4915534.286 *
SECONDARY_XY_ORIGIN 350159.866 4915326.069 *
NATION US *
STATE ID *
STATE MT *
NW_QUAD_CORNER_XY 350622.976 4915234.286 *
NE_QUAD_CORNER_XY 355602.249 4915122.189 *
SE_QUAD_CORNER_XY 355448.698 4908179.948 *
SW_QUAD_CORNER_XY 350464.125 4908292.038 *
SECONDARY_NW_QUAD_XY 350618.629 4915017.742 *
SECONDARY_NE_QUAD_XY 355598.047 4914905.643 *
SECONDARY_SE_QUAD_XY 355444.498 4907963.466 *
SECONDARY_SW_QUAD_XY 350459.781 4908075.560 *
RMSE_XY 2.01 *
IMAGE_SOURCE "BLACK AND WHITE FILM" *
SOURCE_IMAGE_ID "NAPP 10690 168" *
SOURCE_IMAGE_DATE 1999 8 16 *
SOURCE_IMAGE_ID "NAPP 10690 169" *
SOURCE_IMAGE_DATE 1999 8 16 *
SOURCE_IMAGE_ID "NAPP 10690 167" *
SOURCE_IMAGE_DATE 1999 8 16 *
SOURCE_IMAGE_ID "NAPP 10690 178" *
SOURCE_IMAGE_DATE 1999 8 16 *
SOURCE_IMAGE_ID "NAPP 10690 179" *
SOURCE_IMAGE_DATE 1999 8 16 *
SOURCE_IMAGE_ID "NAPP 10690 180" *
SOURCE_IMAGE_DATE 1999 8 16 *
SOURCE_IMAGE_ID "NAPP 10690 156" *
SOURCE_IMAGE_DATE 1999 8 16 *
SOURCE_IMAGE_ID "NAPP 10690 157" *
SOURCE_IMAGE_DATE 1999 8 16 *
SOURCE_IMAGE_ID "NAPP 10690 158" *
SOURCE_IMAGE_DATE 1999 8 16 *
SOURCE_DEM_DATE 2003 1 1 *
AGENCY "WESTERN MAPPING CENTER (WMC)" *
PRODUCER "USDA FS GEOSPATIAL SERVICE AND TECHNOLOGY CENTER" *
PRODUCTION_SYSTEM "ORBIT OR_RECTIFY V.5.2" *
STANDARD_VERSION 1996 12 *
METADATA_DATE 2003 6 5 *
DATA_FILE_SIZE 44489520 *
BYTE_COUNT 5805 *
