BEGIN_USGS_DOQ_HEADER *
QUADRANGLE_NAME "DEADMAN LAKE" *
QUADRANT NE *
WEST_LONGITUDE -112 48 45.000 *
EAST_LONGITUDE -112 45 0.000 *
NORTH_LATITUDE 44 30 0.000 *
SOUTH_LATITUDE 44 26 15.000 *
PRODUCTION_DATE 2003 4 19 *
RASTER_ORDER LEFT_RIGHT/TOP_BOTTOM *
BAND_ORGANIZATION "SINGLE FILE" *
BAND_CONTENT BLACK&WHITE *
BITS_PER_PIXEL 8 *
SAMPLES_AND_LINES 5790 7659 *
HORIZONTAL_DATUM NAD83 *
HORIZONTAL_COORDINATE_SYSTEM UTM *
COORDINATE_ZONE 12 *
HORIZONTAL_UNITS METERS *
HORIZONTAL_RESOLUTION 1.0 *
SECONDARY_HORIZONTAL_DATUM NAD27 *
XY_ORIGIN 355388.884 4929306.878 *
SECONDARY_XY_ORIGIN 355451.874 4929098.430 *
NATION US *
STATE ID *
STATE MT *
NW_QUAD_CORNER_XY 355909.870 4929006.878 *
NE_QUAD_CORNER_XY 360878.525 4928898.575 *
SE_QUAD_CORNER_XY 360729.939 4921956.200 *
SW_QUAD_CORNER_XY 355755.973 4922064.499 *
SECONDARY_NW_QUAD_XY 355905.665 4928790.205 *
SECONDARY_NE_QUAD_XY 360874.465 4928681.898 *
SECONDARY_SE_QUAD_XY 360725.880 4921739.587 *
SECONDARY_SW_QUAD_XY 355751.770 4921847.889 *
RMSE_XY 2.01 *
IMAGE_SOURCE "BLACK AND WHITE FILM" *
SOURCE_IMAGE_ID "NAPP 10690 161" *
SOURCE_IMAGE_DATE 1999 8 16 *
SOURCE_IMAGE_ID "NAPP 10690 160" *
SOURCE_IMAGE_DATE 1999 8 16 *
SOURCE_IMAGE_ID "NAPP 10690 162" *
SOURCE_IMAGE_DATE 1999 8 16 *
SOURCE_IMAGE_ID "NAPP 10690 165" *
SOURCE_IMAGE_DATE 1999 8 16 *
SOURCE_IMAGE_ID "NAPP 10690 164" *
SOURCE_IMAGE_DATE 1999 8 16 *
SOURCE_IMAGE_ID "NAPP 10690 163" *
SOURCE_IMAGE_DATE 1999 8 16 *
SOURCE_IMAGE_ID "NAPP 10690 105" *
SOURCE_IMAGE_DATE 1999 8 16 *
SOURCE_IMAGE_ID "NAPP 10690 104" *
SOURCE_IMAGE_DATE 1999 8 16 *
SOURCE_IMAGE_ID "NAPP 10690 103" *
SOURCE_IMAGE_DATE 1999 8 16 *
SOURCE_DEM_DATE 2003 1 1 *
AGENCY "WESTERN MAPPING CENTER (WMC)" *
PRODUCER "USDA FS GEOSPATIAL SERVICE AND TECHNOLOGY CENTER" *
PRODUCTION_SYSTEM "ORBIT OR_RECTIFY V.5.2" *
STANDARD_VERSION 1996 12 *
METADATA_DATE 2003 6 5 *
DATA_FILE_SIZE 44351400 *
BYTE_COUNT 5790 *
