FILENAME: O4411232.SWS.1077799.tif
QUADRANGLE_NAME: BIG TABLE MOUNTAIN
QUADRANT: SW
WEST_LONGITUDE: -112 7 30.00000
EAST_LONGITUDE: -112 3 45.00000
NORTH_LATITUDE: 44 33 45.00000
SOUTH_LATITUDE: 44 30 0.00000
PRODUCTION_DATE: 2000 5 26
RASTER_ORDER: LEFT_RIGHT/TOP_BOTTOM
BAND_ORGANIZATION: SINGLE FILE
BAND_CONTENT: BLACK&WHITE
BAND_CONTENT: UNDEFINED
BAND_CONTENT: UNDEFINED
BITS_PER_PIXEL: 8
SAMPLES_AND_LINES: 5727 7621
HORIZONTAL_DATUM: NAD83
HORIZONTAL_COORDINATE_SYSTEM: UTM
COORDINATE_ZONE: 12
HORIZONTAL_UNITS: METERS
HORIZONTAL_RESOLUTION: 1.00000
SECONDARY_HORIZONTAL_DATUM: NAD27
XY_ORIGIN: 410198.00000 4935268.00000
SECONDARY_XY_ORIGIN: 410260.91300 4935059.93800
NATION: US
NATION: "SCIENCE
STATE: MT
STATE: ID
NW_QUAD_CORNER_XY: 410660.53000 4934967.04600
NE_QUAD_CORNER_XY: 415623.84400 4934900.55500
SE_QUAD_CORNERY_XY: 415533.54800 4927958.14800
SW_QUAD_CORNER_XY: 410564.92100 4928024.63600
SECONDARY_NW_QUAD_XY: 410657.91900 4934750.28300
SECONDARY_NE_QUAD_XY: 415621.37800 4934683.79000
SECONDARY_SE_QUAD_XY: 415531.08200 4927741.44500
SECONDARY_SW_QUAD_XY: 410562.31100 4927807.93500
RMSE_XY: 1.90000
IMAGE_SOURCE: BLACK AND WHITE FILM
SOURCE_IMAGE_ID: NAPP 9484 276
SOURCE_IMAGE_DATE: 1995 08 14
SOURCE_IMAGE_ID: NAPP 9484 274
SOURCE_IMAGE_DATE: 1995 08 14
SOURCE_DEM_DATE: 1968 00 00
AGENCY: WESTERN MAPPING CENTER (WMC)
PRODUCER: UNDEFINED
PRODUCTION_SYSTEM: GIS/MAGIC
COMPRESSION: UNDEFINED
STANDARD_VERSION: 1996 12
METADATA_DATE: 2000 05 26
DATA_FILE_SIZE: 43651194
BYTE_COUNT: 5727
