FILENAME: O4411229.NWS.1077705.tif
QUADRANGLE_NAME: SNOWLINE
QUADRANT: NW
WEST_LONGITUDE: -112 30 0.00000
EAST_LONGITUDE: -112 26 15.00000
NORTH_LATITUDE: 44 37 30.00000
SOUTH_LATITUDE: 44 33 45.00000
PRODUCTION_DATE: 2000 4 14
RASTER_ORDER: LEFT_RIGHT/TOP_BOTTOM
BAND_ORGANIZATION: SINGLE FILE
BAND_CONTENT: BLACK&WHITE
BAND_CONTENT: UNDEFINED
BAND_CONTENT: UNDEFINED
BITS_PER_PIXEL: 8
SAMPLES_AND_LINES: 5755 7644
HORIZONTAL_DATUM: NAD83
HORIZONTAL_COORDINATE_SYSTEM: UTM
COORDINATE_ZONE: 12
HORIZONTAL_UNITS: METERS
HORIZONTAL_RESOLUTION: 1.00000
SECONDARY_HORIZONTAL_DATUM: NAD27
XY_ORIGIN: 380513.00000 4942689.00000
SECONDARY_XY_ORIGIN: 380576.01500 4942480.90200
NATION: US
NATION: "SCIENCE
STATE: MT
NW_QUAD_CORNER_XY: 381008.24100 4942388.31000
NE_QUAD_CORNER_XY: 385966.24700 4942299.00900
SE_QUAD_CORNERY_XY: 385843.93300 4935356.51300
SW_QUAD_CORNER_XY: 380880.60700 4935445.81000
SECONDARY_NW_QUAD_XY: 381004.75800 4942171.49900
SECONDARY_NE_QUAD_XY: 385962.90900 4942082.19700
SECONDARY_SE_QUAD_XY: 385840.59600 4935139.76100
SECONDARY_SW_QUAD_XY: 380877.12500 4935229.06100
RMSE_XY: 1.20000
IMAGE_SOURCE: BLACK AND WHITE FILM
SOURCE_IMAGE_ID: NAPP 8382 215
SOURCE_IMAGE_DATE: 1995 08 01
SOURCE_DEM_DATE: 2000 01 01
AGENCY: WESTERN MAPPING CENTER (WMC)
PRODUCER: UNDEFINED
PRODUCTION_SYSTEM: GIS/MAGIC
COMPRESSION: UNDEFINED
STANDARD_VERSION: 1996 12
METADATA_DATE: 2000 05 26
DATA_FILE_SIZE: 43996975
BYTE_COUNT: 5755
