FILENAME: O4411228.SWS.1077640.tif
QUADRANGLE_NAME: LIMA PEAKS
QUADRANT: SW
WEST_LONGITUDE: -112 37 30.00000
EAST_LONGITUDE: -112 33 45.00000
NORTH_LATITUDE: 44 33 45.00000
SOUTH_LATITUDE: 44 30 0.00000
PRODUCTION_DATE: 2000 4 20
RASTER_ORDER: LEFT_RIGHT/TOP_BOTTOM
BAND_ORGANIZATION: SINGLE FILE
BAND_CONTENT: BLACK&WHITE
BAND_CONTENT: UNDEFINED
BAND_CONTENT: UNDEFINED
BITS_PER_PIXEL: 8
SAMPLES_AND_LINES: 5771 7651
HORIZONTAL_DATUM: NAD83
HORIZONTAL_COORDINATE_SYSTEM: UTM
COORDINATE_ZONE: 12
HORIZONTAL_UNITS: METERS
HORIZONTAL_RESOLUTION: 1.00000
SECONDARY_HORIZONTAL_DATUM: NAD27
XY_ORIGIN: 370448.00000 4935936.00000
SECONDARY_XY_ORIGIN: 370511.05100 4935727.79300
NATION: US
NATION: "SCIENCE
STATE: MT
NW_QUAD_CORNER_XY: 370953.94800 4935635.81000
NE_QUAD_CORNER_XY: 375917.27800 4935538.90900
SE_QUAD_CORNERY_XY: 375784.47200 4928596.47700
SW_QUAD_CORNER_XY: 370815.82600 4928693.37400
SECONDARY_NW_QUAD_XY: 370950.17600 4935419.06600
SECONDARY_NE_QUAD_XY: 375913.65100 4935322.16300
SECONDARY_SE_QUAD_XY: 375780.84600 4928379.79300
SECONDARY_SW_QUAD_XY: 370812.05500 4928476.69200
RMSE_XY: 2.90000
IMAGE_SOURCE: BLACK AND WHITE FILM
SOURCE_IMAGE_ID: NAPP 8383 006
SOURCE_IMAGE_DATE: 1995 08 15
SOURCE_IMAGE_ID: NAPP 8383 007
SOURCE_IMAGE_DATE: 1995 08 15
SOURCE_IMAGE_ID: NAPP 8383 005
SOURCE_IMAGE_DATE: 1995 08 15
SOURCE_IMAGE_ID: NAPP 8383 023
SOURCE_IMAGE_DATE: 1995 08 15
SOURCE_DEM_DATE: 1992 00 00
AGENCY: WESTERN MAPPING CENTER (WMC)
PRODUCER: UNDEFINED
PRODUCTION_SYSTEM: GIS/MAGIC
COMPRESSION: UNDEFINED
STANDARD_VERSION: 1996 12
METADATA_DATE: 2000 05 26
DATA_FILE_SIZE: 44159692
BYTE_COUNT: 5771
