FILENAME: O4411227.NES.1076744.tif
QUADRANGLE_NAME: GALLAGHER GULCH
QUADRANT: NE
WEST_LONGITUDE: -112 41 15.00000
EAST_LONGITUDE: -112 37 30.00000
NORTH_LATITUDE: 44 37 30.00000
SOUTH_LATITUDE: 44 33 45.00000
PRODUCTION_DATE: 2000 5 9
RASTER_ORDER: LEFT_RIGHT/TOP_BOTTOM
BAND_ORGANIZATION: SINGLE FILE
BAND_CONTENT: BLACK&WHITE
BAND_CONTENT: UNDEFINED
BAND_CONTENT: UNDEFINED
BITS_PER_PIXEL: 8
SAMPLES_AND_LINES: 5772 7655
HORIZONTAL_DATUM: NAD83
HORIZONTAL_COORDINATE_SYSTEM: UTM
COORDINATE_ZONE: 12
HORIZONTAL_UNITS: METERS
HORIZONTAL_RESOLUTION: 1.00000
SECONDARY_HORIZONTAL_DATUM: NAD27
XY_ORIGIN: 365622.00000 4942980.00000
SECONDARY_XY_ORIGIN: 365685.12200 4942771.47500
NATION: US
NATION: "SCIENCE
STATE: MT
NW_QUAD_CORNER_XY: 366134.21200 4942679.02200
NE_QUAD_CORNER_XY: 371092.22400 4942578.31500
SE_QUAD_CORNERY_XY: 370953.94800 4935635.81000
SW_QUAD_CORNER_XY: 365990.61400 4935736.51200
SECONDARY_NW_QUAD_XY: 366130.29400 4942462.22000
SECONDARY_NE_QUAD_XY: 371088.45100 4942361.51100
SECONDARY_SE_QUAD_XY: 370950.17600 4935419.06600
SECONDARY_SW_QUAD_XY: 365986.69700 4935519.77200
RMSE_XY: 2.20000
IMAGE_SOURCE: BLACK AND WHITE FILM
SOURCE_IMAGE_ID: NAPP 8383 019
SOURCE_IMAGE_DATE: 1995 08 15
SOURCE_IMAGE_ID: NAPP 8383 018
SOURCE_IMAGE_DATE: 1995 08 15
SOURCE_IMAGE_ID: NAPP 8383 020
SOURCE_IMAGE_DATE: 1995 08 15
SOURCE_IMAGE_ID: NAPP 8383 005
SOURCE_IMAGE_DATE: 1995 08 15
SOURCE_DEM_DATE: 1997 00 00
AGENCY: WESTERN MAPPING CENTER (WMC)
PRODUCER: UNDEFINED
PRODUCTION_SYSTEM: GIS/MAGIC
COMPRESSION: UNDEFINED
STANDARD_VERSION: 1996 12
METADATA_DATE: 2000 05 25
DATA_FILE_SIZE: 44190432
BYTE_COUNT: 5772
