FILENAME: O4411227.NWS.1076745.tif
QUADRANGLE_NAME: GALLAGHER GULCH
QUADRANT: NW
WEST_LONGITUDE: -112 45 0.00000
EAST_LONGITUDE: -112 41 15.00000
NORTH_LATITUDE: 44 37 30.00000
SOUTH_LATITUDE: 44 33 45.00000
PRODUCTION_DATE: 2000 5 9
RASTER_ORDER: LEFT_RIGHT/TOP_BOTTOM
BAND_ORGANIZATION: SINGLE FILE
BAND_CONTENT: BLACK&WHITE
BAND_CONTENT: UNDEFINED
BAND_CONTENT: UNDEFINED
BITS_PER_PIXEL: 8
SAMPLES_AND_LINES: 5777 7658
HORIZONTAL_DATUM: NAD83
HORIZONTAL_COORDINATE_SYSTEM: UTM
COORDINATE_ZONE: 12
HORIZONTAL_UNITS: METERS
HORIZONTAL_RESOLUTION: 1.00000
SECONDARY_HORIZONTAL_DATUM: NAD27
XY_ORIGIN: 360659.00000 4943084.00000
SECONDARY_XY_ORIGIN: 360722.15200 4942875.34000
NATION: US
NATION: "SCIENCE
STATE: MT
NW_QUAD_CORNER_XY: 361176.19800 4942783.53000
NE_QUAD_CORNER_XY: 366134.21200 4942679.02200
SE_QUAD_CORNERY_XY: 365990.61400 4935736.51200
SW_QUAD_CORNER_XY: 361027.27800 4935841.01800
SECONDARY_NW_QUAD_XY: 361172.13400 4942566.73200
SECONDARY_NE_QUAD_XY: 366130.29400 4942462.22000
SECONDARY_SE_QUAD_XY: 365986.69700 4935519.77200
SECONDARY_SW_QUAD_XY: 361023.21600 4935624.28000
RMSE_XY: 2.30000
IMAGE_SOURCE: BLACK AND WHITE FILM
SOURCE_IMAGE_ID: NAPP 9483 086
SOURCE_IMAGE_DATE: 1995 08 14
SOURCE_IMAGE_ID: NAPP 9483 087
SOURCE_IMAGE_DATE: 1995 08 14
SOURCE_IMAGE_ID: NAPP 9483 085
SOURCE_IMAGE_DATE: 1995 08 14
SOURCE_DEM_DATE: 1997 00 00
AGENCY: WESTERN MAPPING CENTER (WMC)
PRODUCER: UNDEFINED
PRODUCTION_SYSTEM: GIS/MAGIC
COMPRESSION: UNDEFINED
STANDARD_VERSION: 1996 12
METADATA_DATE: 2000 05 25
DATA_FILE_SIZE: 44246043
BYTE_COUNT: 5777
