FILENAME: O4411227.SWS.1076747.tif
QUADRANGLE_NAME: GALLAGHER GULCH
QUADRANT: SW
WEST_LONGITUDE: -112 45 0.00000
EAST_LONGITUDE: -112 41 15.00000
NORTH_LATITUDE: 44 33 45.00000
SOUTH_LATITUDE: 44 30 0.00000
PRODUCTION_DATE: 2000 5 9
RASTER_ORDER: LEFT_RIGHT/TOP_BOTTOM
BAND_ORGANIZATION: SINGLE FILE
BAND_CONTENT: BLACK&WHITE
BAND_CONTENT: UNDEFINED
BAND_CONTENT: UNDEFINED
BITS_PER_PIXEL: 8
SAMPLES_AND_LINES: 5782 7659
HORIZONTAL_DATUM: NAD83
HORIZONTAL_COORDINATE_SYSTEM: UTM
COORDINATE_ZONE: 12
HORIZONTAL_UNITS: METERS
HORIZONTAL_RESOLUTION: 1.00000
SECONDARY_HORIZONTAL_DATUM: NAD27
XY_ORIGIN: 360510.00000 4936142.00000
SECONDARY_XY_ORIGIN: 360573.09800 4935933.52700
NATION: US
NATION: "SCIENCE
STATE: MT
STATE: ID
NW_QUAD_CORNER_XY: 361027.27800 4935841.01800
NE_QUAD_CORNER_XY: 365990.61400 4935736.51200
SE_QUAD_CORNERY_XY: 365847.17700 4928794.07300
SW_QUAD_CORNER_XY: 360878.52500 4928898.57400
SECONDARY_NW_QUAD_XY: 361023.21600 4935624.28000
SECONDARY_NE_QUAD_XY: 365986.69700 4935519.77200
SECONDARY_SE_QUAD_XY: 365843.26100 4928577.39400
SECONDARY_SW_QUAD_XY: 360874.46400 4928681.89900
RMSE_XY: 2.10000
IMAGE_SOURCE: BLACK AND WHITE FILM
SOURCE_IMAGE_ID: NAPP 9483 088
SOURCE_IMAGE_DATE: 1995 08 14
SOURCE_IMAGE_ID: NAPP 9483 089
SOURCE_IMAGE_DATE: 1995 08 14
SOURCE_IMAGE_ID: NAPP 9483 087
SOURCE_IMAGE_DATE: 1995 08 14
SOURCE_DEM_DATE: 1997 00 00
AGENCY: WESTERN MAPPING CENTER (WMC)
PRODUCER: UNDEFINED
PRODUCTION_SYSTEM: GIS/MAGIC
COMPRESSION: UNDEFINED
STANDARD_VERSION: 1996 12
METADATA_DATE: 2000 05 25
DATA_FILE_SIZE: 44290120
BYTE_COUNT: 5782
