FILENAME: O4411226.NWS.1076725.tif
QUADRANGLE_NAME: CABOOSE CANYON
QUADRANT: NW
WEST_LONGITUDE: -112 52 30.00000
EAST_LONGITUDE: -112 48 45.00000
NORTH_LATITUDE: 44 37 30.00000
SOUTH_LATITUDE: 44 33 45.00000
PRODUCTION_DATE: 2000 5 9
RASTER_ORDER: LEFT_RIGHT/TOP_BOTTOM
BAND_ORGANIZATION: SINGLE FILE
BAND_CONTENT: BLACK&WHITE
BAND_CONTENT: UNDEFINED
BAND_CONTENT: UNDEFINED
BITS_PER_PIXEL: 8
SAMPLES_AND_LINES: 5788 7665
HORIZONTAL_DATUM: NAD83
HORIZONTAL_COORDINATE_SYSTEM: UTM
COORDINATE_ZONE: 12
HORIZONTAL_UNITS: METERS
HORIZONTAL_RESOLUTION: 1.00000
SECONDARY_HORIZONTAL_DATUM: NAD27
XY_ORIGIN: 350732.00000 4943304.00000
SECONDARY_XY_ORIGIN: 350795.08900 4943095.00100
NATION: US
NATION: "SCIENCE
STATE: MT
NW_QUAD_CORNER_XY: 351260.16200 4943003.95700
NE_QUAD_CORNER_XY: 356218.18100 4942891.84200
SE_QUAD_CORNERY_XY: 356063.94000 4935949.32600
SW_QUAD_CORNER_XY: 351100.59800 4936061.43700
SECONDARY_NW_QUAD_XY: 351255.80800 4942787.16400
SECONDARY_NE_QUAD_XY: 356213.97300 4942675.04700
SECONDARY_SE_QUAD_XY: 356059.73200 4935732.59100
SECONDARY_SW_QUAD_XY: 351096.24600 4935844.70500
RMSE_XY: 1.20000
IMAGE_SOURCE: BLACK AND WHITE FILM
SOURCE_IMAGE_ID: NAPP 9485 172
SOURCE_IMAGE_DATE: 1995 08 20
SOURCE_IMAGE_ID: NAPP 9483 188
SOURCE_IMAGE_DATE: 1995 08 14
SOURCE_IMAGE_ID: NAPP 9485 171
SOURCE_IMAGE_DATE: 1995 08 20
SOURCE_IMAGE_ID: NAPP 9485 173
SOURCE_IMAGE_DATE: 1995 08 20
SOURCE_IMAGE_ID: NAPP 9483 096
SOURCE_IMAGE_DATE: 1995 08 14
SOURCE_DEM_DATE: 1964 00 00
AGENCY: WESTERN MAPPING CENTER (WMC)
PRODUCER: UNDEFINED
PRODUCTION_SYSTEM: GIS/MAGIC
COMPRESSION: UNDEFINED
STANDARD_VERSION: 1996 12
METADATA_DATE: 2000 05 25
DATA_FILE_SIZE: 44370808
BYTE_COUNT: 5788
