FILENAME: O4411226.SWS.1076727.tif
QUADRANGLE_NAME: CABOOSE CANYON
QUADRANT: SW
WEST_LONGITUDE: -112 52 30.00000
EAST_LONGITUDE: -112 48 45.00000
NORTH_LATITUDE: 44 33 45.00000
SOUTH_LATITUDE: 44 30 0.00000
PRODUCTION_DATE: 2000 5 9
RASTER_ORDER: LEFT_RIGHT/TOP_BOTTOM
BAND_ORGANIZATION: SINGLE FILE
BAND_CONTENT: BLACK&WHITE
BAND_CONTENT: UNDEFINED
BAND_CONTENT: UNDEFINED
BITS_PER_PIXEL: 8
SAMPLES_AND_LINES: 5793 7666
HORIZONTAL_DATUM: NAD83
HORIZONTAL_COORDINATE_SYSTEM: UTM
COORDINATE_ZONE: 12
HORIZONTAL_UNITS: METERS
HORIZONTAL_RESOLUTION: 1.00000
SECONDARY_HORIZONTAL_DATUM: NAD27
XY_ORIGIN: 350572.00000 4936362.00000
SECONDARY_XY_ORIGIN: 350635.01200 4936153.19800
NATION: US
NATION: "SCIENCE
STATE: MT
NW_QUAD_CORNER_XY: 351100.59800 4936061.43700
NE_QUAD_CORNER_XY: 356063.94000 4935949.32600
SE_QUAD_CORNERY_XY: 355909.87000 4929006.87800
SW_QUAD_CORNER_XY: 350941.21200 4929118.98500
SECONDARY_NW_QUAD_XY: 351096.24600 4935844.70500
SECONDARY_NE_QUAD_XY: 356059.73200 4935732.59100
SECONDARY_SE_QUAD_XY: 355905.66400 4928790.20600
SECONDARY_SW_QUAD_XY: 350936.86100 4928902.31500
RMSE_XY: 1.40000
IMAGE_SOURCE: BLACK AND WHITE FILM
SOURCE_IMAGE_ID: NAPP 9485 170
SOURCE_IMAGE_DATE: 1995 08 20
SOURCE_IMAGE_ID: NAPP 9485 169
SOURCE_IMAGE_DATE: 1995 08 20
SOURCE_IMAGE_ID: NAPP 9485 171
SOURCE_IMAGE_DATE: 1995 08 20
SOURCE_DEM_DATE: 1964 00 00
AGENCY: WESTERN MAPPING CENTER (WMC)
PRODUCER: UNDEFINED
PRODUCTION_SYSTEM: GIS/MAGIC
COMPRESSION: UNDEFINED
STANDARD_VERSION: 1996 12
METADATA_DATE: 2000 05 25
DATA_FILE_SIZE: 44414931
BYTE_COUNT: 5793
