FILENAME: O4411225.SES.1076679.tif
QUADRANGLE_NAME: ISLAND BUTTE
QUADRANT: SE
WEST_LONGITUDE: -112 56 15.00000
EAST_LONGITUDE: -112 52 30.00000
NORTH_LATITUDE: 44 33 45.00000
SOUTH_LATITUDE: 44 30 0.00000
PRODUCTION_DATE: 2000 5 18
RASTER_ORDER: LEFT_RIGHT/TOP_BOTTOM
BAND_ORGANIZATION: SINGLE FILE
BAND_CONTENT: BLACK&WHITE
BAND_CONTENT: UNDEFINED
BAND_CONTENT: UNDEFINED
BITS_PER_PIXEL: 8
SAMPLES_AND_LINES: 5798 7670
HORIZONTAL_DATUM: NAD83
HORIZONTAL_COORDINATE_SYSTEM: UTM
COORDINATE_ZONE: 12
HORIZONTAL_UNITS: METERS
HORIZONTAL_RESOLUTION: 1.00000
SECONDARY_HORIZONTAL_DATUM: NAD27
XY_ORIGIN: 345604.00000 4936478.00000
SECONDARY_XY_ORIGIN: 345666.97200 4936269.03400
NATION: US
NATION: "SCIENCE
STATE: MT
NW_QUAD_CORNER_XY: 346137.25400 4936177.35100
NE_QUAD_CORNER_XY: 351100.59800 4936061.43700
SE_QUAD_CORNERY_XY: 350941.21200 4929118.98500
SW_QUAD_CORNER_XY: 345972.55100 4929234.89400
SECONDARY_NW_QUAD_XY: 346132.75600 4935960.62300
SECONDARY_NE_QUAD_XY: 351096.24600 4935844.70500
SECONDARY_SE_QUAD_XY: 350936.86100 4928902.31500
SECONDARY_SW_QUAD_XY: 345968.05500 4929018.22800
RMSE_XY: 2.80000
IMAGE_SOURCE: BLACK AND WHITE FILM
SOURCE_IMAGE_ID: NAPP 9483 190
SOURCE_IMAGE_DATE: 1995 08 14
SOURCE_IMAGE_ID: NAPP 9485 159
SOURCE_IMAGE_DATE: 1995 08 20
SOURCE_IMAGE_ID: NAPP 9483 191
SOURCE_IMAGE_DATE: 1995 08 14
SOURCE_IMAGE_ID: NAPP 9483 189
SOURCE_IMAGE_DATE: 1995 08 14
SOURCE_DEM_DATE: 2000 01 01
AGENCY: WESTERN MAPPING CENTER (WMC)
PRODUCER: UNDEFINED
PRODUCTION_SYSTEM: GIS/MAGIC
COMPRESSION: UNDEFINED
STANDARD_VERSION: 1996 12
METADATA_DATE: 2000 05 25
DATA_FILE_SIZE: 44476458
BYTE_COUNT: 5798
