FILENAME: O4411224.NWS.1077793.tif
QUADRANGLE_NAME: ANTELOPE PEAK
QUADRANT: NW
WEST_LONGITUDE: -112 7 30.00000
EAST_LONGITUDE: -112 3 45.00000
NORTH_LATITUDE: 44 45 0.00000
SOUTH_LATITUDE: 44 41 15.00000
PRODUCTION_DATE: 2000 3 16
RASTER_ORDER: LEFT_RIGHT/TOP_BOTTOM
BAND_ORGANIZATION: SINGLE FILE
BAND_CONTENT: BLACK&WHITE
BAND_CONTENT: UNDEFINED
BAND_CONTENT: UNDEFINED
BITS_PER_PIXEL: 8
SAMPLES_AND_LINES: 5712 7621
HORIZONTAL_DATUM: NAD83
HORIZONTAL_COORDINATE_SYSTEM: UTM
COORDINATE_ZONE: 12
HORIZONTAL_UNITS: METERS
HORIZONTAL_RESOLUTION: 1.00000
SECONDARY_HORIZONTAL_DATUM: NAD27
XY_ORIGIN: 410485.00000 4956095.00000
SECONDARY_XY_ORIGIN: 410547.63600 4955886.76700
NATION: US
NATION: "SCIENCE
STATE: MT
NW_QUAD_CORNER_XY: 410947.99900 4955794.71500
NE_QUAD_CORNER_XY: 415895.33800 4955728.21800
SE_QUAD_CORNERY_XY: 415804.73900 4948785.59000
SW_QUAD_CORNER_XY: 410852.06900 4948852.08600
SECONDARY_NW_QUAD_XY: 410945.38500 4955577.77100
SECONDARY_NE_QUAD_XY: 415892.87000 4955511.27300
SECONDARY_SE_QUAD_XY: 415802.27100 4948568.70400
SECONDARY_SW_QUAD_XY: 410849.45600 4948635.20100
RMSE_XY: 1.60000
IMAGE_SOURCE: BLACK AND WHITE FILM
SOURCE_IMAGE_ID: NAPP 9484 270
SOURCE_IMAGE_DATE: 1995 08 14
SOURCE_IMAGE_ID: NAPP 9484 271
SOURCE_IMAGE_DATE: 1995 08 14
SOURCE_DEM_DATE: 1967 00 00
AGENCY: WESTERN MAPPING CENTER (WMC)
PRODUCER: UNDEFINED
PRODUCTION_SYSTEM: GIS/MAGIC
COMPRESSION: UNDEFINED
STANDARD_VERSION: 1996 12
METADATA_DATE: 2000 05 26
DATA_FILE_SIZE: 43536864
BYTE_COUNT: 5712
