FILENAME: O4411224.SWS.1077795.tif
QUADRANGLE_NAME: ANTELOPE PEAK
QUADRANT: SW
WEST_LONGITUDE: -112 7 30.00000
EAST_LONGITUDE: -112 3 45.00000
NORTH_LATITUDE: 44 41 15.00000
SOUTH_LATITUDE: 44 37 30.00000
PRODUCTION_DATE: 2000 3 16
RASTER_ORDER: LEFT_RIGHT/TOP_BOTTOM
BAND_ORGANIZATION: SINGLE FILE
BAND_CONTENT: BLACK&WHITE
BAND_CONTENT: UNDEFINED
BAND_CONTENT: UNDEFINED
BITS_PER_PIXEL: 8
SAMPLES_AND_LINES: 5717 7621
HORIZONTAL_DATUM: NAD83
HORIZONTAL_COORDINATE_SYSTEM: UTM
COORDINATE_ZONE: 12
HORIZONTAL_UNITS: METERS
HORIZONTAL_RESOLUTION: 1.00000
SECONDARY_HORIZONTAL_DATUM: NAD27
XY_ORIGIN: 410389.00000 4949153.00000
SECONDARY_XY_ORIGIN: 410451.72800 4948944.82300
NATION: US
NATION: "SCIENCE
STATE: MT
NW_QUAD_CORNER_XY: 410852.06900 4948852.08600
NE_QUAD_CORNER_XY: 415804.73900 4948785.59000
SE_QUAD_CORNERY_XY: 415714.24100 4941843.03600
SW_QUAD_CORNER_XY: 410756.24600 4941909.52900
SECONDARY_NW_QUAD_XY: 410849.45600 4948635.20100
SECONDARY_NE_QUAD_XY: 415802.27100 4948568.70400
SECONDARY_SE_QUAD_XY: 415711.77400 4941626.21000
SECONDARY_SW_QUAD_XY: 410753.63400 4941692.70500
RMSE_XY: 1.30000
IMAGE_SOURCE: BLACK AND WHITE FILM
SOURCE_IMAGE_ID: NAPP 9484 272
SOURCE_IMAGE_DATE: 1995 08 14
SOURCE_IMAGE_ID: NAPP 9485 242
SOURCE_IMAGE_DATE: 1995 08 20
SOURCE_DEM_DATE: 1967 00 00
AGENCY: WESTERN MAPPING CENTER (WMC)
PRODUCER: UNDEFINED
PRODUCTION_SYSTEM: GIS/MAGIC
COMPRESSION: UNDEFINED
STANDARD_VERSION: 1996 12
METADATA_DATE: 2000 05 26
DATA_FILE_SIZE: 43574974
BYTE_COUNT: 5717
