FILENAME: O4411222.NWS.1077745.tif
QUADRANGLE_NAME: LIMA DAM
QUADRANT: NW
WEST_LONGITUDE: -112 22 30.00000
EAST_LONGITUDE: -112 18 45.00000
NORTH_LATITUDE: 44 45 0.00000
SOUTH_LATITUDE: 44 41 15.00000
PRODUCTION_DATE: 2000 4 14
RASTER_ORDER: LEFT_RIGHT/TOP_BOTTOM
BAND_ORGANIZATION: SINGLE FILE
BAND_CONTENT: BLACK&WHITE
BAND_CONTENT: UNDEFINED
BAND_CONTENT: UNDEFINED
BITS_PER_PIXEL: 8
SAMPLES_AND_LINES: 5733 7636
HORIZONTAL_DATUM: NAD83
HORIZONTAL_COORDINATE_SYSTEM: UTM
COORDINATE_ZONE: 12
HORIZONTAL_UNITS: METERS
HORIZONTAL_RESOLUTION: 1.00000
SECONDARY_HORIZONTAL_DATUM: NAD27
XY_ORIGIN: 390674.00000 4956399.00000
SECONDARY_XY_ORIGIN: 390736.97400 4956190.60000
NATION: US
NATION: "SCIENCE
STATE: MT
NW_QUAD_CORNER_XY: 391158.63000 4956098.71300
NE_QUAD_CORNER_XY: 396105.97400 4956017.01200
SE_QUAD_CORNERY_XY: 395994.05000 4949074.37700
SW_QUAD_CORNER_XY: 391041.37500 4949156.07600
SECONDARY_NW_QUAD_XY: 391155.43500 4955881.77900
SECONDARY_NE_QUAD_XY: 396102.92400 4955800.07500
SECONDARY_SE_QUAD_XY: 395991.00200 4948857.49900
SECONDARY_SW_QUAD_XY: 391038.18100 4948939.20100
RMSE_XY: 2.60000
IMAGE_SOURCE: BLACK AND WHITE FILM
SOURCE_IMAGE_ID: NAPP 9484 058
SOURCE_IMAGE_DATE: 1995 08 14
SOURCE_IMAGE_ID: NAPP 9484 057
SOURCE_IMAGE_DATE: 1995 08 14
SOURCE_DEM_DATE: 2000 01 01
AGENCY: WESTERN MAPPING CENTER (WMC)
PRODUCER: UNDEFINED
PRODUCTION_SYSTEM: GIS/MAGIC
COMPRESSION: UNDEFINED
STANDARD_VERSION: 1996 12
METADATA_DATE: 2000 06 13
DATA_FILE_SIZE: 43782921
BYTE_COUNT: 5733
