FILENAME: O4411221.NWS.1077701.tif
QUADRANGLE_NAME: HENRY GULCH
QUADRANT: NW
WEST_LONGITUDE: -112 30 0.00000
EAST_LONGITUDE: -112 26 15.00000
NORTH_LATITUDE: 44 45 0.00000
SOUTH_LATITUDE: 44 41 15.00000
PRODUCTION_DATE: 2000 4 14
RASTER_ORDER: LEFT_RIGHT/TOP_BOTTOM
BAND_ORGANIZATION: SINGLE FILE
BAND_CONTENT: BLACK&WHITE
BAND_CONTENT: UNDEFINED
BAND_CONTENT: UNDEFINED
BITS_PER_PIXEL: 8
SAMPLES_AND_LINES: 5745 7644
HORIZONTAL_DATUM: NAD83
HORIZONTAL_COORDINATE_SYSTEM: UTM
COORDINATE_ZONE: 12
HORIZONTAL_UNITS: METERS
HORIZONTAL_RESOLUTION: 1.00000
SECONDARY_HORIZONTAL_DATUM: NAD27
XY_ORIGIN: 380768.00000 4956574.00000
SECONDARY_XY_ORIGIN: 380831.07400 4956365.54200
NATION: US
NATION: "SCIENCE
STATE: MT
NW_QUAD_CORNER_XY: 381263.93700 4956273.52100
NE_QUAD_CORNER_XY: 386211.28400 4956184.21700
SE_QUAD_CORNERY_XY: 386088.69700 4949241.57700
SW_QUAD_CORNER_XY: 381136.01800 4949330.88000
SECONDARY_NW_QUAD_XY: 381260.45200 4956056.59200
SECONDARY_NE_QUAD_XY: 386207.94400 4955967.28400
SECONDARY_SE_QUAD_XY: 386085.35800 4949024.70400
SECONDARY_SW_QUAD_XY: 381132.53400 4949114.01000
RMSE_XY: 1.30000
IMAGE_SOURCE: BLACK AND WHITE FILM
SOURCE_IMAGE_ID: NAPP 8382 211
SOURCE_IMAGE_DATE: 1995 08 01
SOURCE_DEM_DATE: 1968 00 00
AGENCY: WESTERN MAPPING CENTER (WMC)
PRODUCER: UNDEFINED
PRODUCTION_SYSTEM: GIS/MAGIC
COMPRESSION: UNDEFINED
STANDARD_VERSION: 1996 12
METADATA_DATE: 2000 05 26
DATA_FILE_SIZE: 43920525
BYTE_COUNT: 5745
