FILENAME: O4411220.NES.1077633.tif
QUADRANGLE_NAME: LIMA
QUADRANT: NE
WEST_LONGITUDE: -112 33 45.00000
EAST_LONGITUDE: -112 30 0.00000
NORTH_LATITUDE: 44 45 0.00000
SOUTH_LATITUDE: 44 41 15.00000
PRODUCTION_DATE: 2000 4 20
RASTER_ORDER: LEFT_RIGHT/TOP_BOTTOM
BAND_ORGANIZATION: SINGLE FILE
BAND_CONTENT: BLACK&WHITE
BAND_CONTENT: UNDEFINED
BAND_CONTENT: UNDEFINED
BITS_PER_PIXEL: 8
SAMPLES_AND_LINES: 5750 7647
HORIZONTAL_DATUM: NAD83
HORIZONTAL_COORDINATE_SYSTEM: UTM
COORDINATE_ZONE: 12
HORIZONTAL_UNITS: METERS
HORIZONTAL_RESOLUTION: 1.00000
SECONDARY_HORIZONTAL_DATUM: NAD27
XY_ORIGIN: 375815.00000 4956667.00000
SECONDARY_XY_ORIGIN: 375878.12700 4956458.38500
NATION: US
NATION: "SCIENCE
STATE: MT
NW_QUAD_CORNER_XY: 376316.58900 4956366.62800
NE_QUAD_CORNER_XY: 381263.93700 4956273.52100
SE_QUAD_CORNERY_XY: 381136.01800 4949330.88000
SW_QUAD_CORNER_XY: 376183.33700 4949423.98400
SECONDARY_NW_QUAD_XY: 376312.95900 4956149.70100
SECONDARY_NE_QUAD_XY: 381260.45200 4956056.59200
SECONDARY_SE_QUAD_XY: 381132.53400 4949114.01000
SECONDARY_SW_QUAD_XY: 376179.70800 4949207.11700
RMSE_XY: 1.40000
IMAGE_SOURCE: BLACK AND WHITE FILM
SOURCE_IMAGE_ID: NAPP 8382 127
SOURCE_IMAGE_DATE: 1995 08 01
SOURCE_IMAGE_ID: NAPP 8382 128
SOURCE_IMAGE_DATE: 1995 08 01
SOURCE_DEM_DATE: 1979 00 00
AGENCY: WESTERN MAPPING CENTER (WMC)
PRODUCER: UNDEFINED
PRODUCTION_SYSTEM: GIS/MAGIC
COMPRESSION: UNDEFINED
STANDARD_VERSION: 1996 12
METADATA_DATE: 2000 05 26
DATA_FILE_SIZE: 43976000
BYTE_COUNT: 5750
