FILENAME: O4411219.SWS.1077592.tif
QUADRANGLE_NAME: DELL
QUADRANT: SW
WEST_LONGITUDE: -112 45 0.00000
EAST_LONGITUDE: -112 41 15.00000
NORTH_LATITUDE: 44 41 15.00000
SOUTH_LATITUDE: 44 37 30.00000
PRODUCTION_DATE: 2000 5 9
RASTER_ORDER: LEFT_RIGHT/TOP_BOTTOM
BAND_ORGANIZATION: SINGLE FILE
BAND_CONTENT: BLACK&WHITE
BAND_CONTENT: UNDEFINED
BAND_CONTENT: UNDEFINED
BITS_PER_PIXEL: 8
SAMPLES_AND_LINES: 5772 7659
HORIZONTAL_DATUM: NAD83
HORIZONTAL_COORDINATE_SYSTEM: UTM
COORDINATE_ZONE: 12
HORIZONTAL_UNITS: METERS
HORIZONTAL_RESOLUTION: 1.00000
SECONDARY_HORIZONTAL_DATUM: NAD27
XY_ORIGIN: 360807.00000 4950027.00000
SECONDARY_XY_ORIGIN: 360870.20500 4949818.15400
NATION: US
NATION: "SCIENCE
STATE: MT
NW_QUAD_CORNER_XY: 361325.28400 4949726.11200
NE_QUAD_CORNER_XY: 366277.97000 4949621.60000
SE_QUAD_CORNERY_XY: 366134.21200 4942679.02200
SW_QUAD_CORNER_XY: 361176.19800 4942783.53000
SECONDARY_NW_QUAD_XY: 361321.21900 4949509.25300
SECONDARY_NE_QUAD_XY: 366274.05000 4949404.73900
SECONDARY_SE_QUAD_XY: 366130.29400 4942462.22000
SECONDARY_SW_QUAD_XY: 361172.13400 4942566.73200
RMSE_XY: 1.60000
IMAGE_SOURCE: BLACK AND WHITE FILM
SOURCE_IMAGE_ID: NAPP 9483 084
SOURCE_IMAGE_DATE: 1995 08 14
SOURCE_IMAGE_ID: NAPP 9483 085
SOURCE_IMAGE_DATE: 1995 08 14
SOURCE_IMAGE_ID: NAPP 9483 083
SOURCE_IMAGE_DATE: 1995 08 14
SOURCE_IMAGE_ID: NAPP 8382 003
SOURCE_IMAGE_DATE: 1995 08 01
SOURCE_DEM_DATE: 1997 00 00
AGENCY: WESTERN MAPPING CENTER (WMC)
PRODUCER: UNDEFINED
PRODUCTION_SYSTEM: GIS/MAGIC
COMPRESSION: UNDEFINED
STANDARD_VERSION: 1996 12
METADATA_DATE: 2000 05 26
DATA_FILE_SIZE: 44213520
BYTE_COUNT: 5772
