FILENAME: O4411218.SES.1076722.tif
QUADRANGLE_NAME: DIXON MOUNTAIN
QUADRANT: SE
WEST_LONGITUDE: -112 48 45.00000
EAST_LONGITUDE: -112 45 0.00000
NORTH_LATITUDE: 44 41 15.00000
SOUTH_LATITUDE: 44 37 30.00000
PRODUCTION_DATE: 2000 5 9
RASTER_ORDER: LEFT_RIGHT/TOP_BOTTOM
BAND_ORGANIZATION: SINGLE FILE
BAND_CONTENT: BLACK&WHITE
BAND_CONTENT: UNDEFINED
BAND_CONTENT: UNDEFINED
BITS_PER_PIXEL: 8
SAMPLES_AND_LINES: 5778 7662
HORIZONTAL_DATUM: NAD83
HORIZONTAL_COORDINATE_SYSTEM: UTM
COORDINATE_ZONE: 12
HORIZONTAL_UNITS: METERS
HORIZONTAL_RESOLUTION: 1.00000
SECONDARY_HORIZONTAL_DATUM: NAD27
XY_ORIGIN: 355849.00000 4950135.00000
SECONDARY_XY_ORIGIN: 355912.18200 4949925.97800
NATION: US
NATION: "SCIENCE
STATE: MT
NW_QUAD_CORNER_XY: 356372.59500 4949834.42700
NE_QUAD_CORNER_XY: 361325.28400 4949726.11200
SE_QUAD_CORNERY_XY: 361176.19800 4942783.53000
SW_QUAD_CORNER_XY: 356218.18100 4942891.84200
SECONDARY_NW_QUAD_XY: 356368.38500 4949617.57100
SECONDARY_NE_QUAD_XY: 361321.21900 4949509.25300
SECONDARY_SE_QUAD_XY: 361172.13400 4942566.73200
SECONDARY_SW_QUAD_XY: 356213.97300 4942675.04700
RMSE_XY: 2.00000
IMAGE_SOURCE: BLACK AND WHITE FILM
SOURCE_IMAGE_ID: NAPP 9483 099
SOURCE_IMAGE_DATE: 1995 08 14
SOURCE_IMAGE_ID: NAPP 9483 100
SOURCE_IMAGE_DATE: 1995 08 14
SOURCE_IMAGE_ID: NAPP 9483 085
SOURCE_IMAGE_DATE: 1995 08 14
SOURCE_DEM_DATE: 1964 00 00
AGENCY: WESTERN MAPPING CENTER (WMC)
PRODUCER: UNDEFINED
PRODUCTION_SYSTEM: GIS/MAGIC
COMPRESSION: UNDEFINED
STANDARD_VERSION: 1996 12
METADATA_DATE: 2000 05 25
DATA_FILE_SIZE: 44276814
BYTE_COUNT: 5778
