FILENAME: O4411217.NWS.1076669.tif
QUADRANGLE_NAME: GRAPHITE MOUNTAIN
QUADRANT: NW
WEST_LONGITUDE: -113 0 0.00000
EAST_LONGITUDE: -112 56 15.00000
NORTH_LATITUDE: 44 45 0.00000
SOUTH_LATITUDE: 44 41 15.00000
PRODUCTION_DATE: 2000 5 18
RASTER_ORDER: LEFT_RIGHT/TOP_BOTTOM
BAND_ORGANIZATION: SINGLE FILE
BAND_CONTENT: BLACK&WHITE
BAND_CONTENT: UNDEFINED
BAND_CONTENT: UNDEFINED
BITS_PER_PIXEL: 8
SAMPLES_AND_LINES: 5789 7673
HORIZONTAL_DATUM: NAD83
HORIZONTAL_COORDINATE_SYSTEM: UTM
COORDINATE_ZONE: 12
HORIZONTAL_UNITS: METERS
HORIZONTAL_RESOLUTION: 1.00000
SECONDARY_HORIZONTAL_DATUM: NAD27
XY_ORIGIN: 341145.00000 4957425.00000
SECONDARY_XY_ORIGIN: 341208.23100 4957215.25200
NATION: US
NATION: "SCIENCE
STATE: MT
NW_QUAD_CORNER_XY: 341685.10700 4957124.85300
NE_QUAD_CORNER_XY: 346632.46700 4957005.12500
SE_QUAD_CORNERY_XY: 346467.21200 4950062.46600
SW_QUAD_CORNER_XY: 341514.51700 4950182.19100
SECONDARY_NW_QUAD_XY: 341680.46000 4956907.94800
SECONDARY_NE_QUAD_XY: 346627.96500 4956788.21700
SECONDARY_SE_QUAD_XY: 346462.71100 4949845.61700
SECONDARY_SW_QUAD_XY: 341509.87100 4949965.34600
RMSE_XY: 1.70000
IMAGE_SOURCE: BLACK AND WHITE FILM
SOURCE_IMAGE_ID: NAPP 9485 153
SOURCE_IMAGE_DATE: 1995 08 20
SOURCE_IMAGE_ID: NAPP 9485 154
SOURCE_IMAGE_DATE: 1995 08 20
SOURCE_IMAGE_ID: NAPP 9485 152
SOURCE_IMAGE_DATE: 1995 08 20
SOURCE_IMAGE_ID: NAPP 9483 184
SOURCE_IMAGE_DATE: 1995 08 14
SOURCE_DEM_DATE: 2000 01 01
AGENCY: WESTERN MAPPING CENTER (WMC)
PRODUCER: UNDEFINED
PRODUCTION_SYSTEM: GIS/MAGIC
COMPRESSION: UNDEFINED
STANDARD_VERSION: 1996 12
METADATA_DATE: 2000 05 25
DATA_FILE_SIZE: 44424786
BYTE_COUNT: 5789
