FILENAME: O4411217.SWS.1076672.tif
QUADRANGLE_NAME: GRAPHITE MOUNTAIN
QUADRANT: SW
WEST_LONGITUDE: -113 0 0.00000
EAST_LONGITUDE: -112 56 15.00000
NORTH_LATITUDE: 44 41 15.00000
SOUTH_LATITUDE: 44 37 30.00000
PRODUCTION_DATE: 2000 5 18
RASTER_ORDER: LEFT_RIGHT/TOP_BOTTOM
BAND_ORGANIZATION: SINGLE FILE
BAND_CONTENT: BLACK&WHITE
BAND_CONTENT: UNDEFINED
BAND_CONTENT: UNDEFINED
BITS_PER_PIXEL: 8
SAMPLES_AND_LINES: 5794 7673
HORIZONTAL_DATUM: NAD83
HORIZONTAL_COORDINATE_SYSTEM: UTM
COORDINATE_ZONE: 12
HORIZONTAL_UNITS: METERS
HORIZONTAL_RESOLUTION: 1.00000
SECONDARY_HORIZONTAL_DATUM: NAD27
XY_ORIGIN: 340975.00000 4950483.00000
SECONDARY_XY_ORIGIN: 341038.13200 4950273.45800
NATION: US
NATION: "SCIENCE
STATE: MT
NW_QUAD_CORNER_XY: 341514.51700 4950182.19100
NE_QUAD_CORNER_XY: 346467.21200 4950062.46600
SE_QUAD_CORNERY_XY: 346302.14100 4943119.87400
SW_QUAD_CORNER_XY: 341344.11700 4943239.59600
SECONDARY_NW_QUAD_XY: 341509.87100 4949965.34600
SECONDARY_NE_QUAD_XY: 346462.71100 4949845.61700
SECONDARY_SE_QUAD_XY: 346297.64200 4942903.08600
SECONDARY_SW_QUAD_XY: 341339.47200 4943022.81100
RMSE_XY: 1.40000
IMAGE_SOURCE: BLACK AND WHITE FILM
SOURCE_IMAGE_ID: NAPP 9485 155
SOURCE_IMAGE_DATE: 1995 08 20
SOURCE_IMAGE_ID: NAPP 9485 156
SOURCE_IMAGE_DATE: 1995 08 20
SOURCE_DEM_DATE: 2000 01 01
AGENCY: WESTERN MAPPING CENTER (WMC)
PRODUCER: UNDEFINED
PRODUCTION_SYSTEM: GIS/MAGIC
COMPRESSION: UNDEFINED
STANDARD_VERSION: 1996 12
METADATA_DATE: 2000 05 25
DATA_FILE_SIZE: 44463156
BYTE_COUNT: 5794
