FILENAME: O4411216.NWS.789298.tif
QUADRANGLE_NAME: STONEHOUSE MOUNTAIN
QUADRANT: NW
WEST_LONGITUDE: -112 7 30.00000
EAST_LONGITUDE: -112 3 45.00000
NORTH_LATITUDE: 44 52 30.00000
SOUTH_LATITUDE: 44 48 45.00000
PRODUCTION_DATE: 1997 11 19
RASTER_ORDER: LEFT_RIGHT/TOP_BOTTOM
BAND_ORGANIZATION: SINGLE FILE
BAND_CONTENT: BLACK&WHITE
BAND_CONTENT: UNDEFINED
BAND_CONTENT: UNDEFINED
BITS_PER_PIXEL: 8
SAMPLES_AND_LINES: 5698 7618
HORIZONTAL_DATUM: NAD83
HORIZONTAL_COORDINATE_SYSTEM: UTM
COORDINATE_ZONE: 12
HORIZONTAL_UNITS: METERS
HORIZONTAL_RESOLUTION: 1.00000
SECONDARY_HORIZONTAL_DATUM: NAD27
XY_ORIGIN: 410679.56800 4969979.69600
SECONDARY_XY_ORIGIN: 410741.65400 4969771.05800
NATION: US
STATE: MT
NW_QUAD_CORNER_XY: 411140.17800 4969680.19600
NE_QUAD_CORNER_XY: 416076.83800 4969613.69600
SE_QUAD_CORNERY_XY: 415986.03800 4962670.92100
SW_QUAD_CORNER_XY: 411044.03500 4962737.41900
SECONDARY_NW_QUAD_XY: 411137.56200 4969463.13600
SECONDARY_NE_QUAD_XY: 416074.36800 4969396.63400
SECONDARY_SE_QUAD_XY: 415983.56800 4962453.91700
SECONDARY_SW_QUAD_XY: 411041.42000 4962520.41700
RMSE_XY: 1.80000
IMAGE_SOURCE: BLACK AND WHITE FILM
SOURCE_IMAGE_ID: NAPP 9484 266
SOURCE_IMAGE_DATE: 1995 8 14
SOURCE_DEM_DATE: 1997 11 19
AGENCY: WESTERN MAPPING CENTER (WMC)
PRODUCER: NIES MAPPING GROUP
PRODUCTION_SYSTEM: INTERGRAPH- ISPM,ISIR
COMPRESSION: UNDEFINED
STANDARD_VERSION: 1996 12
METADATA_DATE: 1998 2 5
DATA_FILE_SIZE: 43413062
BYTE_COUNT: 5698
