FILENAME: O4411215.SES.789295.tif
QUADRANGLE_NAME: ANTONE PEAK
QUADRANT: SE
WEST_LONGITUDE: -112 11 15.00000
EAST_LONGITUDE: -112 7 30.00000
NORTH_LATITUDE: 44 48 45.00000
SOUTH_LATITUDE: 44 45 0.00000
PRODUCTION_DATE: 1997 11 19
RASTER_ORDER: LEFT_RIGHT/TOP_BOTTOM
BAND_ORGANIZATION: SINGLE FILE
BAND_CONTENT: BLACK&WHITE
BAND_CONTENT: UNDEFINED
BAND_CONTENT: UNDEFINED
BITS_PER_PIXEL: 8
SAMPLES_AND_LINES: 5709 7622
HORIZONTAL_DATUM: NAD83
HORIZONTAL_COORDINATE_SYSTEM: UTM
COORDINATE_ZONE: 12
HORIZONTAL_UNITS: METERS
HORIZONTAL_RESOLUTION: 1.00000
SECONDARY_HORIZONTAL_DATUM: NAD27
XY_ORIGIN: 405635.64300 4963107.21800
SECONDARY_XY_ORIGIN: 405698.16400 4962898.73500
NATION: US
STATE: MT
NW_QUAD_CORNER_XY: 406102.03100 4962807.71800
NE_QUAD_CORNER_XY: 411044.03500 4962737.41900
SE_QUAD_CORNERY_XY: 410947.99900 4955794.71600
SW_QUAD_CORNER_XY: 406000.65800 4955865.01400
SECONDARY_NW_QUAD_XY: 406099.27100 4962590.71800
SECONDARY_NE_QUAD_XY: 411041.42000 4962520.41700
SECONDARY_SE_QUAD_XY: 410945.38500 4955577.77200
SECONDARY_SW_QUAD_XY: 405997.89900 4955648.07200
RMSE_XY: 2.00000
IMAGE_SOURCE: BLACK AND WHITE FILM
SOURCE_IMAGE_ID: NAPP 9484 205
SOURCE_IMAGE_DATE: 1995 8 14
SOURCE_DEM_DATE: 1997 11 19
AGENCY: WESTERN MAPPING CENTER (WMC)
PRODUCER: NIES MAPPING GROUP
PRODUCTION_SYSTEM: INTERGRAPH- ISPM,ISIR
COMPRESSION: UNDEFINED
STANDARD_VERSION: 1996 12
METADATA_DATE: 1998 2 5
DATA_FILE_SIZE: 43519707
BYTE_COUNT: 5709
