FILENAME: O4411214.NWS.1077765.tif
QUADRANGLE_NAME: WHISKEY SPRING
QUADRANT: NW
WEST_LONGITUDE: -112 22 30.00000
EAST_LONGITUDE: -112 18 45.00000
NORTH_LATITUDE: 44 52 30.00000
SOUTH_LATITUDE: 44 48 45.00000
PRODUCTION_DATE: 2000 4 14
RASTER_ORDER: LEFT_RIGHT/TOP_BOTTOM
BAND_ORGANIZATION: SINGLE FILE
BAND_CONTENT: BLACK&WHITE
BAND_CONTENT: UNDEFINED
BAND_CONTENT: UNDEFINED
BITS_PER_PIXEL: 8
SAMPLES_AND_LINES: 5724 7636
HORIZONTAL_DATUM: NAD83
HORIZONTAL_COORDINATE_SYSTEM: UTM
COORDINATE_ZONE: 12
HORIZONTAL_UNITS: METERS
HORIZONTAL_RESOLUTION: 1.00000
SECONDARY_HORIZONTAL_DATUM: NAD27
XY_ORIGIN: 390908.00000 4970285.00000
SECONDARY_XY_ORIGIN: 390970.74900 4970076.23600
NATION: US
NATION: "SCIENCE
STATE: MT
NW_QUAD_CORNER_XY: 391393.53000 4969984.20400
NE_QUAD_CORNER_XY: 396330.19300 4969902.49900
SE_QUAD_CORNERY_XY: 396218.02100 4962959.72000
SW_QUAD_CORNER_XY: 391276.01500 4963041.42300
SECONDARY_NW_QUAD_XY: 391390.33300 4969767.15300
SECONDARY_NE_QUAD_XY: 396327.14200 4969685.44600
SECONDARY_SE_QUAD_XY: 396214.97100 4962742.72400
SECONDARY_SW_QUAD_XY: 391272.81900 4962824.42900
RMSE_XY: 2.30000
IMAGE_SOURCE: BLACK AND WHITE FILM
SOURCE_IMAGE_ID: NAPP 9484 054
SOURCE_IMAGE_DATE: 1995 08 14
SOURCE_IMAGE_ID: NAPP 9484 055
SOURCE_IMAGE_DATE: 1995 08 14
SOURCE_IMAGE_ID: NAPP 9484 085
SOURCE_IMAGE_DATE: 1995 08 14
SOURCE_DEM_DATE: 2000 01 01
AGENCY: WESTERN MAPPING CENTER (WMC)
PRODUCER: UNDEFINED
PRODUCTION_SYSTEM: GIS/MAGIC
COMPRESSION: UNDEFINED
STANDARD_VERSION: 1996 12
METADATA_DATE: 2000 05 26
DATA_FILE_SIZE: 43714188
BYTE_COUNT: 5724
