FILENAME: O4411213.SWS.1077741.tif
QUADRANGLE_NAME: VINEGAR HILL
QUADRANT: SW
WEST_LONGITUDE: -112 30 0.00000
EAST_LONGITUDE: -112 26 15.00000
NORTH_LATITUDE: 44 48 45.00000
SOUTH_LATITUDE: 44 45 0.00000
PRODUCTION_DATE: 2000 4 14
RASTER_ORDER: LEFT_RIGHT/TOP_BOTTOM
BAND_ORGANIZATION: SINGLE FILE
BAND_CONTENT: BLACK&WHITE
BAND_CONTENT: UNDEFINED
BAND_CONTENT: UNDEFINED
BITS_PER_PIXEL: 8
SAMPLES_AND_LINES: 5740 7644
HORIZONTAL_DATUM: NAD83
HORIZONTAL_COORDINATE_SYSTEM: UTM
COORDINATE_ZONE: 12
HORIZONTAL_UNITS: METERS
HORIZONTAL_RESOLUTION: 1.00000
SECONDARY_HORIZONTAL_DATUM: NAD27
XY_ORIGIN: 380896.00000 4963517.00000
SECONDARY_XY_ORIGIN: 380959.05100 4963308.35000
NATION: US
NATION: "SCIENCE
STATE: MT
NW_QUAD_CORNER_XY: 381391.99900 4963216.23400
NE_QUAD_CORNER_XY: 386334.00700 4963126.92700
SE_QUAD_CORNERY_XY: 386211.28400 4956184.21700
SW_QUAD_CORNER_XY: 381263.93700 4956273.52100
SECONDARY_NW_QUAD_XY: 381388.51200 4962999.24600
SECONDARY_NE_QUAD_XY: 386330.66600 4962909.93700
SECONDARY_SE_QUAD_XY: 386207.94400 4955967.28400
SECONDARY_SW_QUAD_XY: 381260.45200 4956056.59200
RMSE_XY: 1.60000
IMAGE_SOURCE: BLACK AND WHITE FILM
SOURCE_IMAGE_ID: NAPP 8382 209
SOURCE_IMAGE_DATE: 1995 08 01
SOURCE_IMAGE_ID: NAPP 8382 210
SOURCE_IMAGE_DATE: 1995 08 01
SOURCE_DEM_DATE: 1967 00 00
AGENCY: WESTERN MAPPING CENTER (WMC)
PRODUCER: UNDEFINED
PRODUCTION_SYSTEM: GIS/MAGIC
COMPRESSION: UNDEFINED
STANDARD_VERSION: 1996 12
METADATA_DATE: 2000 06 13
DATA_FILE_SIZE: 43882300
BYTE_COUNT: 5740
